BEGIN:VCALENDAR
VERSION:2.0
PRODID:-//Elthetokerk Alblasserdam VVP-PKN - ECPv6.15.20//NONSGML v1.0//EN
CALSCALE:GREGORIAN
METHOD:PUBLISH
X-WR-CALNAME:Elthetokerk Alblasserdam VVP-PKN
X-ORIGINAL-URL:https://elthetokerk.nl
X-WR-CALDESC:Evenementen voor Elthetokerk Alblasserdam VVP-PKN
REFRESH-INTERVAL;VALUE=DURATION:PT1H
X-Robots-Tag:noindex
X-PUBLISHED-TTL:PT1H
BEGIN:VTIMEZONE
TZID:Europe/Amsterdam
BEGIN:DAYLIGHT
TZOFFSETFROM:+0100
TZOFFSETTO:+0200
TZNAME:CEST
DTSTART:20240331T010000
END:DAYLIGHT
BEGIN:STANDARD
TZOFFSETFROM:+0200
TZOFFSETTO:+0100
TZNAME:CET
DTSTART:20241027T010000
END:STANDARD
BEGIN:DAYLIGHT
TZOFFSETFROM:+0100
TZOFFSETTO:+0200
TZNAME:CEST
DTSTART:20250330T010000
END:DAYLIGHT
BEGIN:STANDARD
TZOFFSETFROM:+0200
TZOFFSETTO:+0100
TZNAME:CET
DTSTART:20251026T010000
END:STANDARD
BEGIN:DAYLIGHT
TZOFFSETFROM:+0100
TZOFFSETTO:+0200
TZNAME:CEST
DTSTART:20260329T010000
END:DAYLIGHT
BEGIN:STANDARD
TZOFFSETFROM:+0200
TZOFFSETTO:+0100
TZNAME:CET
DTSTART:20261025T010000
END:STANDARD
END:VTIMEZONE
BEGIN:VEVENT
DTSTART;TZID=Europe/Amsterdam:20250813T100000
DTEND;TZID=Europe/Amsterdam:20250813T120000
DTSTAMP:20260420T070350
CREATED:20250417T075654Z
LAST-MODIFIED:20250417T075654Z
UID:6646-1755079200-1755086400@elthetokerk.nl
SUMMARY:Koffieochtend
DESCRIPTION:
URL:https://elthetokerk.nl/event/koffieochtend-13/
LOCATION:Elthetokerk\, Blokweerweg 22\, Alblasserdam\, Zuid-Holland\, 2953 AB\, Netherlands
END:VEVENT
BEGIN:VEVENT
DTSTART;TZID=Europe/Amsterdam:20250810T100000
DTEND;TZID=Europe/Amsterdam:20250810T110000
DTSTAMP:20260420T070350
CREATED:20250416T081158Z
LAST-MODIFIED:20250416T081158Z
UID:6638-1754820000-1754823600@elthetokerk.nl
SUMMARY:Kerkdienst dhr. drs. Herman de Boer.
DESCRIPTION:
URL:https://elthetokerk.nl/event/kerkdienst-dhr-drs-herman-de-boer/
LOCATION:Elthetokerk\, Blokweerweg 22\, Alblasserdam\, Zuid-Holland\, 2953 AB\, Netherlands
END:VEVENT
BEGIN:VEVENT
DTSTART;TZID=Europe/Amsterdam:20250803T100000
DTEND;TZID=Europe/Amsterdam:20250803T110000
DTSTAMP:20260420T070350
CREATED:20250416T081033Z
LAST-MODIFIED:20250416T081033Z
UID:6636-1754215200-1754218800@elthetokerk.nl
SUMMARY:Kerkdienst mevr. Lieke Bosveld.
DESCRIPTION:
URL:https://elthetokerk.nl/event/kerkdienst-mevr-lieke-bosveld/
LOCATION:Elthetokerk\, Blokweerweg 22\, Alblasserdam\, Zuid-Holland\, 2953 AB\, Netherlands
END:VEVENT
BEGIN:VEVENT
DTSTART;TZID=Europe/Amsterdam:20250727T100000
DTEND;TZID=Europe/Amsterdam:20250727T110000
DTSTAMP:20260420T070350
CREATED:20250416T080533Z
LAST-MODIFIED:20250416T080533Z
UID:6630-1753610400-1753614000@elthetokerk.nl
SUMMARY:Kerkdienst mevr. M.Nieuwenhuis.
DESCRIPTION:
URL:https://elthetokerk.nl/event/kerkdienst-mevr-m-nieuwenhuis-2/
LOCATION:Elthetokerk\, Blokweerweg 22\, Alblasserdam\, Zuid-Holland\, 2953 AB\, Netherlands
END:VEVENT
BEGIN:VEVENT
DTSTART;TZID=Europe/Amsterdam:20250725T153000
DTEND;TZID=Europe/Amsterdam:20250725T170000
DTSTAMP:20260420T070350
CREATED:20250416T080853Z
LAST-MODIFIED:20250506T104523Z
UID:6634-1753457400-1753462800@elthetokerk.nl
SUMMARY:Maandafsluiting met koffie\, thee en een praatje.
DESCRIPTION:
URL:https://elthetokerk.nl/event/maandafsluiting-met-koffie-thee-en-een-praatje-8/
LOCATION:Elthetokerk\, Blokweerweg 22\, Alblasserdam\, Zuid-Holland\, 2953 AB\, Netherlands
END:VEVENT
BEGIN:VEVENT
DTSTART;TZID=Europe/Amsterdam:20250720T100000
DTEND;TZID=Europe/Amsterdam:20250720T110000
DTSTAMP:20260420T070350
CREATED:20250416T080412Z
LAST-MODIFIED:20250416T080412Z
UID:6628-1753005600-1753009200@elthetokerk.nl
SUMMARY:Kekrdienst dhr. ds J.Douwes.
DESCRIPTION:
URL:https://elthetokerk.nl/event/kekrdienst-dhr-ds-j-douwes/
LOCATION:Elthetokerk\, Blokweerweg 22\, Alblasserdam\, Zuid-Holland\, 2953 AB\, Netherlands
END:VEVENT
BEGIN:VEVENT
DTSTART;TZID=Europe/Amsterdam:20250713T100000
DTEND;TZID=Europe/Amsterdam:20250713T110000
DTSTAMP:20260420T070350
CREATED:20250416T080240Z
LAST-MODIFIED:20250416T080240Z
UID:6626-1752400800-1752404400@elthetokerk.nl
SUMMARY:Kerkdienst mevr. M.Pieterse
DESCRIPTION:
URL:https://elthetokerk.nl/event/kerkdienst-mevr-m-pieterse-2/
LOCATION:Elthetokerk\, Blokweerweg 22\, Alblasserdam\, Zuid-Holland\, 2953 AB\, Netherlands
END:VEVENT
BEGIN:VEVENT
DTSTART;TZID=Europe/Amsterdam:20250709T100000
DTEND;TZID=Europe/Amsterdam:20250709T120000
DTSTAMP:20260420T070350
CREATED:20250416T080721Z
LAST-MODIFIED:20250416T080721Z
UID:6632-1752055200-1752062400@elthetokerk.nl
SUMMARY:Koffieochtend
DESCRIPTION:
URL:https://elthetokerk.nl/event/koffieochtend-12/
LOCATION:Elthetokerk\, Blokweerweg 22\, Alblasserdam\, Zuid-Holland\, 2953 AB\, Netherlands
END:VEVENT
BEGIN:VEVENT
DTSTART;TZID=Europe/Amsterdam:20250706T100000
DTEND;TZID=Europe/Amsterdam:20250706T110000
DTSTAMP:20260420T070350
CREATED:20250416T080114Z
LAST-MODIFIED:20250416T080114Z
UID:6624-1751796000-1751799600@elthetokerk.nl
SUMMARY:Kerkdienst dhr. ds. G.Olde
DESCRIPTION:
URL:https://elthetokerk.nl/event/kerkdienst-dhr-ds-g-olde/
LOCATION:Elthetokerk\, Blokweerweg 22\, Alblasserdam\, Zuid-Holland\, 2953 AB\, Netherlands
END:VEVENT
BEGIN:VEVENT
DTSTART;TZID=Europe/Amsterdam:20250629T100000
DTEND;TZID=Europe/Amsterdam:20250629T110000
DTSTAMP:20260420T070350
CREATED:20250415T111921Z
LAST-MODIFIED:20250506T093430Z
UID:6614-1751191200-1751194800@elthetokerk.nl
SUMMARY:Kerkdienst mevr.ds.Rini Rikkert.
DESCRIPTION:
URL:https://elthetokerk.nl/event/kekrdienst-mevr-ds-rini-rikkert/
LOCATION:Elthetokerk\, Blokweerweg 22\, Alblasserdam\, Zuid-Holland\, 2953 AB\, Netherlands
END:VEVENT
BEGIN:VEVENT
DTSTART;TZID=Europe/Amsterdam:20250627T153000
DTEND;TZID=Europe/Amsterdam:20250627T170000
DTSTAMP:20260420T070350
CREATED:20250415T112723Z
LAST-MODIFIED:20250506T104613Z
UID:6622-1751038200-1751043600@elthetokerk.nl
SUMMARY:Maandafsluiting
DESCRIPTION:
URL:https://elthetokerk.nl/event/maandafsluiting-2/
LOCATION:Elthetokerk\, Blokweerweg 22\, Alblasserdam\, Zuid-Holland\, 2953 AB\, Netherlands
END:VEVENT
BEGIN:VEVENT
DTSTART;TZID=Europe/Amsterdam:20250615T100000
DTEND;TZID=Europe/Amsterdam:20250615T110000
DTSTAMP:20260420T070350
CREATED:20250415T105739Z
LAST-MODIFIED:20250415T105739Z
UID:6608-1749981600-1749985200@elthetokerk.nl
SUMMARY:Kerkdienst mevr.ds. Sandra van Zeeland - van Cassel.
DESCRIPTION:
URL:https://elthetokerk.nl/event/kerkdienst-mevr-ds-sandra-van-zeeland-van-cassel-2/
LOCATION:Elthetokerk\, Blokweerweg 22\, Alblasserdam\, Zuid-Holland\, 2953 AB\, Netherlands
END:VEVENT
BEGIN:VEVENT
DTSTART;TZID=Europe/Amsterdam:20250611T100000
DTEND;TZID=Europe/Amsterdam:20250611T120000
DTSTAMP:20260420T070350
CREATED:20250415T112615Z
LAST-MODIFIED:20250415T112615Z
UID:6620-1749636000-1749643200@elthetokerk.nl
SUMMARY:Koffieochtend
DESCRIPTION:
URL:https://elthetokerk.nl/event/koffieochtend-11/
LOCATION:Elthetokerk\, Blokweerweg 22\, Alblasserdam\, Zuid-Holland\, 2953 AB\, Netherlands
END:VEVENT
BEGIN:VEVENT
DTSTART;TZID=Europe/Amsterdam:20250608T100000
DTEND;TZID=Europe/Amsterdam:20250608T110000
DTSTAMP:20260420T070350
CREATED:20250415T104635Z
LAST-MODIFIED:20250415T105320Z
UID:6600-1749376800-1749380400@elthetokerk.nl
SUMMARY:Kerkdienst\, Pinksteren. mevr.ds. Sandra van Zeeland - van Cassel.
DESCRIPTION:
URL:https://elthetokerk.nl/event/kerkdienst-pinksteren-mevr-ds-sandra-van-zeeland-van-cassel/
LOCATION:VPG (Vrijzinnig Protstantse Geloofsgemeenschap.\, Burgemeester Colijnstraat 24\, Boskoop\, Zuid-Holland\, 2771GD
END:VEVENT
BEGIN:VEVENT
DTSTART;TZID=Europe/Amsterdam:20250604T080000
DTEND;TZID=Europe/Amsterdam:20250604T170000
DTSTAMP:20260420T070350
CREATED:20250305T105308Z
LAST-MODIFIED:20250305T105308Z
UID:6487-1749024000-1749056400@elthetokerk.nl
SUMMARY:Passieavond over waterbouw. Spreker Dhr.v/d Ven.
DESCRIPTION:
URL:https://elthetokerk.nl/event/passieavond-over-waterbouw-spreker-dhr-v-d-ven/
LOCATION:Elthetokerk\, Blokweerweg 22\, Alblasserdam\, Zuid-Holland\, 2953 AB\, Netherlands
END:VEVENT
BEGIN:VEVENT
DTSTART;TZID=Europe/Amsterdam:20250601T100000
DTEND;TZID=Europe/Amsterdam:20250601T110000
DTSTAMP:20260420T070350
CREATED:20250415T103209Z
LAST-MODIFIED:20250415T103209Z
UID:6598-1748772000-1748775600@elthetokerk.nl
SUMMARY:Kerkdienst dhr. ds Reinhold Philipp.
DESCRIPTION:
URL:https://elthetokerk.nl/event/kerkdienst-dhr-ds-reinhold-philipp/
LOCATION:Elthetokerk\, Blokweerweg 22\, Alblasserdam\, Zuid-Holland\, 2953 AB\, Netherlands
END:VEVENT
BEGIN:VEVENT
DTSTART;TZID=Europe/Amsterdam:20250530T153000
DTEND;TZID=Europe/Amsterdam:20250530T170000
DTSTAMP:20260420T070350
CREATED:20250415T112510Z
LAST-MODIFIED:20250506T104657Z
UID:6618-1748619000-1748624400@elthetokerk.nl
SUMMARY:Maandafsluiting met koffie en een praatje.
DESCRIPTION:
URL:https://elthetokerk.nl/event/maandafsluiting-met-koffie-en-een-praatje/
LOCATION:Elthetokerk\, Blokweerweg 22\, Alblasserdam\, Zuid-Holland\, 2953 AB\, Netherlands
END:VEVENT
BEGIN:VEVENT
DTSTART;TZID=Europe/Amsterdam:20250525T100000
DTEND;TZID=Europe/Amsterdam:20250525T110000
DTSTAMP:20260420T070350
CREATED:20250415T100750Z
LAST-MODIFIED:20250415T100750Z
UID:6596-1748167200-1748170800@elthetokerk.nl
SUMMARY:Kerkdienst dhr. drs. Z.Albada
DESCRIPTION:
URL:https://elthetokerk.nl/event/kerkdienst-dhr-drs-z-albada-2/
LOCATION:Elthetokerk\, Blokweerweg 22\, Alblasserdam\, Zuid-Holland\, 2953 AB\, Netherlands
END:VEVENT
BEGIN:VEVENT
DTSTART;TZID=Europe/Amsterdam:20250518T100000
DTEND;TZID=Europe/Amsterdam:20250518T110000
DTSTAMP:20260420T070350
CREATED:20250415T100637Z
LAST-MODIFIED:20250506T093137Z
UID:6594-1747562400-1747566000@elthetokerk.nl
SUMMARY:Kerkdienst dhr. ds. Henk Hartogsveld.
DESCRIPTION:
URL:https://elthetokerk.nl/event/kerkdienst-dhr-ds-henk-hartogsveld/
LOCATION:Elthetokerk\, Blokweerweg 22\, Alblasserdam\, Zuid-Holland\, 2953 AB\, Netherlands
END:VEVENT
BEGIN:VEVENT
DTSTART;TZID=Europe/Amsterdam:20250514T100000
DTEND;TZID=Europe/Amsterdam:20250514T120000
DTSTAMP:20260420T070350
CREATED:20250415T112236Z
LAST-MODIFIED:20250415T112236Z
UID:6616-1747216800-1747224000@elthetokerk.nl
SUMMARY:Koffieochtend
DESCRIPTION:
URL:https://elthetokerk.nl/event/koffieochtend-10/
LOCATION:Elthetokerk\, Blokweerweg 22\, Alblasserdam\, Zuid-Holland\, 2953 AB\, Netherlands
END:VEVENT
BEGIN:VEVENT
DTSTART;TZID=Europe/Amsterdam:20250511T100000
DTEND;TZID=Europe/Amsterdam:20250511T110000
DTSTAMP:20260420T070350
CREATED:20250415T100521Z
LAST-MODIFIED:20250415T100521Z
UID:6592-1746957600-1746961200@elthetokerk.nl
SUMMARY:Kerkdienst Mevr\, Maja Nieuwenhuis
DESCRIPTION:
URL:https://elthetokerk.nl/event/kerkdienst-mevr-maja-nieuwenhuis/
LOCATION:Elthetokerk\, Blokweerweg 22\, Alblasserdam\, Zuid-Holland\, 2953 AB\, Netherlands
END:VEVENT
BEGIN:VEVENT
DTSTART;TZID=Europe/Amsterdam:20250504T100000
DTEND;TZID=Europe/Amsterdam:20250504T110000
DTSTAMP:20260420T070350
CREATED:20250415T100349Z
LAST-MODIFIED:20250415T100349Z
UID:6590-1746352800-1746356400@elthetokerk.nl
SUMMARY:Kerkdienst Mevr. ds. Annemike van der Meiden
DESCRIPTION:
URL:https://elthetokerk.nl/event/kerkdienst-mevr-ds-annemike-van-der-meiden/
LOCATION:Elthetokerk\, Blokweerweg 22\, Alblasserdam\, Zuid-Holland\, 2953 AB\, Netherlands
END:VEVENT
BEGIN:VEVENT
DTSTART;TZID=Europe/Amsterdam:20250503T090000
DTEND;TZID=Europe/Amsterdam:20250503T140000
DTSTAMP:20260420T070350
CREATED:20250429T164929Z
LAST-MODIFIED:20250429T164929Z
UID:6659-1746262800-1746280800@elthetokerk.nl
SUMMARY:Elthetomarkt
DESCRIPTION:
URL:https://elthetokerk.nl/event/elthetomarkt-2/
LOCATION:Elthetokerk\, Blokweerweg 22\, Alblasserdam\, Zuid-Holland\, 2953 AB\, Netherlands
END:VEVENT
BEGIN:VEVENT
DTSTART;TZID=Europe/Amsterdam:20250427T100000
DTEND;TZID=Europe/Amsterdam:20250427T110000
DTSTAMP:20260420T070350
CREATED:20250331T100443Z
LAST-MODIFIED:20250331T100443Z
UID:6542-1745748000-1745751600@elthetokerk.nl
SUMMARY:Kerkdienst. dhr.G.Barendrecht
DESCRIPTION:
URL:https://elthetokerk.nl/event/kerkdienst-dhr-g-barendrecht-6/
LOCATION:Zuid-Holland
END:VEVENT
BEGIN:VEVENT
DTSTART;TZID=Europe/Amsterdam:20250425T143000
DTEND;TZID=Europe/Amsterdam:20250425T170000
DTSTAMP:20260420T070350
CREATED:20250331T100718Z
LAST-MODIFIED:20250331T100718Z
UID:6547-1745591400-1745600400@elthetokerk.nl
SUMMARY:Maandafsluiting met koffie\, thee en een praatje.
DESCRIPTION:
URL:https://elthetokerk.nl/event/maandafsluiting-met-koffie-thee-en-een-praatje-7/
LOCATION:Zuid-Holland
END:VEVENT
BEGIN:VEVENT
DTSTART;TZID=Europe/Amsterdam:20250424T193000
DTEND;TZID=Europe/Amsterdam:20250424T220000
DTSTAMP:20260420T070350
CREATED:20250331T110959Z
LAST-MODIFIED:20250331T110959Z
UID:6549-1745523000-1745532000@elthetokerk.nl
SUMMARY:Ledenvergadering VVP annex gemeenteavond
DESCRIPTION:
URL:https://elthetokerk.nl/event/ledenvergadering-vvp-annex-gemeenteavond/
LOCATION:Zuid-Holland
END:VEVENT
BEGIN:VEVENT
DTSTART;TZID=Europe/Amsterdam:20250420T100000
DTEND;TZID=Europe/Amsterdam:20250420T110000
DTSTAMP:20260420T070350
CREATED:20250331T100206Z
LAST-MODIFIED:20250331T100206Z
UID:6540-1745143200-1745146800@elthetokerk.nl
SUMMARY:Kerkdienst\, mevr.ds. S.van Zeeland-van Cassel. Pasen.
DESCRIPTION:
URL:https://elthetokerk.nl/event/kerkdienst-mevr-ds-s-van-zeeland-van-cassel-pasen/
LOCATION:Zuid-Holland
END:VEVENT
BEGIN:VEVENT
DTSTART;TZID=Europe/Amsterdam:20250419T220000
DTEND;TZID=Europe/Amsterdam:20250419T230000
DTSTAMP:20260420T070350
CREATED:20250331T095706Z
LAST-MODIFIED:20250331T095706Z
UID:6538-1745100000-1745103600@elthetokerk.nl
SUMMARY:Kerkdienst Stille Zaterdag. Paaswake . Mevr. ds. S.van Zeeland - van Cassel
DESCRIPTION:
URL:https://elthetokerk.nl/event/kerkdienst-stille-zaterdag-paaswake-mevr-ds-s-van-zeeland-van-cassel/
LOCATION:Zuid-Holland
END:VEVENT
BEGIN:VEVENT
DTSTART;TZID=Europe/Amsterdam:20250418T193000
DTEND;TZID=Europe/Amsterdam:20250418T200000
DTSTAMP:20260420T070350
CREATED:20250331T095217Z
LAST-MODIFIED:20250331T095217Z
UID:6536-1745004600-1745006400@elthetokerk.nl
SUMMARY:Kerkdienst Goede Vrijdag\, in de Paascyclus
DESCRIPTION:
URL:https://elthetokerk.nl/event/kerkdienst-goede-vrijdag-in-de-paascyclus/
LOCATION:Zuid-Holland
END:VEVENT
BEGIN:VEVENT
DTSTART;TZID=Europe/Amsterdam:20250417T180000
DTEND;TZID=Europe/Amsterdam:20250417T193000
DTSTAMP:20260420T070350
CREATED:20250331T094851Z
LAST-MODIFIED:20250331T094851Z
UID:6534-1744912800-1744918200@elthetokerk.nl
SUMMARY:Kerkdienst in de Paascyclus\, Witte Donderdag. mevr.ds. van Zeeland-van Cassel
DESCRIPTION:Voor de dienst een eenvoudige maaltijd in de grote zaal. In de dienst wordt het heilig avondmaal gevierd.
URL:https://elthetokerk.nl/event/kerkdienst-in-de-paascyclus-witte-donderdag-mevr-ds-van-zeeland-van-cassel/
LOCATION:Zuid-Holland
END:VEVENT
END:VCALENDAR