BEGIN:VCALENDAR
VERSION:2.0
PRODID:-//Elthetokerk Alblasserdam VVP-PKN - ECPv6.15.20//NONSGML v1.0//EN
CALSCALE:GREGORIAN
METHOD:PUBLISH
X-WR-CALNAME:Elthetokerk Alblasserdam VVP-PKN
X-ORIGINAL-URL:https://elthetokerk.nl
X-WR-CALDESC:Evenementen voor Elthetokerk Alblasserdam VVP-PKN
REFRESH-INTERVAL;VALUE=DURATION:PT1H
X-Robots-Tag:noindex
X-PUBLISHED-TTL:PT1H
BEGIN:VTIMEZONE
TZID:Europe/Amsterdam
BEGIN:DAYLIGHT
TZOFFSETFROM:+0100
TZOFFSETTO:+0200
TZNAME:CEST
DTSTART:20250330T010000
END:DAYLIGHT
BEGIN:STANDARD
TZOFFSETFROM:+0200
TZOFFSETTO:+0100
TZNAME:CET
DTSTART:20251026T010000
END:STANDARD
BEGIN:DAYLIGHT
TZOFFSETFROM:+0100
TZOFFSETTO:+0200
TZNAME:CEST
DTSTART:20260329T010000
END:DAYLIGHT
BEGIN:STANDARD
TZOFFSETFROM:+0200
TZOFFSETTO:+0100
TZNAME:CET
DTSTART:20261025T010000
END:STANDARD
BEGIN:DAYLIGHT
TZOFFSETFROM:+0100
TZOFFSETTO:+0200
TZNAME:CEST
DTSTART:20270328T010000
END:DAYLIGHT
BEGIN:STANDARD
TZOFFSETFROM:+0200
TZOFFSETTO:+0100
TZNAME:CET
DTSTART:20271031T010000
END:STANDARD
END:VTIMEZONE
BEGIN:VEVENT
DTSTART;TZID=Europe/Amsterdam:20260424T153000
DTEND;TZID=Europe/Amsterdam:20260424T170000
DTSTAMP:20260420T081334
CREATED:20260214T101207Z
LAST-MODIFIED:20260214T101207Z
UID:7276-1777044600-1777050000@elthetokerk.nl
SUMMARY:Maandafsluiting met koffie\, thee en een praatje.
DESCRIPTION:
URL:https://elthetokerk.nl/event/maandafsluiting-met-koffie-thee-en-een-praatje-13/
LOCATION:Elthetokerk\, Blokweerweg 22\, Alblasserdam\, Zuid-Holland\, 2953 AB\, Netherlands
END:VEVENT
BEGIN:VEVENT
DTSTART;TZID=Europe/Amsterdam:20260423T193000
DTEND;TZID=Europe/Amsterdam:20260423T220000
DTSTAMP:20260420T081334
CREATED:20260411T164250Z
LAST-MODIFIED:20260411T164645Z
UID:7427-1776972600-1776981600@elthetokerk.nl
SUMMARY:Ledenvergadering VVP annex jaarvergadering.
DESCRIPTION:
URL:https://elthetokerk.nl/event/ledenvergadering-vvp-annex-jaarvergadering/
LOCATION:Elthetokerk\, Blokweerweg 22\, Alblasserdam\, Zuid-Holland\, 2953 AB\, Netherlands
END:VEVENT
BEGIN:VEVENT
DTSTART;TZID=Europe/Amsterdam:20260419T100000
DTEND;TZID=Europe/Amsterdam:20260419T110000
DTSTAMP:20260420T081334
CREATED:20260216T151243Z
LAST-MODIFIED:20260216T151243Z
UID:7308-1776592800-1776596400@elthetokerk.nl
SUMMARY:Kerkdienst: Mw. M. Pieterse.
DESCRIPTION:
URL:https://elthetokerk.nl/event/kerkdienst-mw-m-pieterse/
LOCATION:Elthetokerk\, Blokweerweg 22\, Alblasserdam\, Zuid-Holland\, 2953 AB\, Netherlands
END:VEVENT
BEGIN:VEVENT
DTSTART;TZID=Europe/Amsterdam:20260412T170000
DTEND;TZID=Europe/Amsterdam:20260412T174500
DTSTAMP:20260420T081334
CREATED:20260202T103043Z
LAST-MODIFIED:20260204T121606Z
UID:7194-1776013200-1776015900@elthetokerk.nl
SUMMARY:Taizé viering
DESCRIPTION:
URL:https://elthetokerk.nl/event/taize-viering-3/
LOCATION:Elthetokerk\, Blokweerweg 22\, Alblasserdam\, Zuid-Holland\, 2953 AB\, Netherlands
END:VEVENT
BEGIN:VEVENT
DTSTART;TZID=Europe/Amsterdam:20260412T100000
DTEND;TZID=Europe/Amsterdam:20260412T110000
DTSTAMP:20260420T081334
CREATED:20260123T091040Z
LAST-MODIFIED:20260411T163700Z
UID:7166-1775988000-1775991600@elthetokerk.nl
SUMMARY:Kerkdienst Ds. L van der Plaat.
DESCRIPTION:
URL:https://elthetokerk.nl/event/kerkdienst-ds-h-hartogsveld-4/
LOCATION:Elthetokerk\, Blokweerweg 22\, Alblasserdam\, Zuid-Holland\, 2953 AB\, Netherlands
END:VEVENT
BEGIN:VEVENT
DTSTART;TZID=Europe/Amsterdam:20260408T100000
DTEND;TZID=Europe/Amsterdam:20260408T120000
DTSTAMP:20260420T081334
CREATED:20260214T095730Z
LAST-MODIFIED:20260407T171207Z
UID:7250-1775642400-1775649600@elthetokerk.nl
SUMMARY:Koffieochtend gaat niet door.
DESCRIPTION:Vanwege gepland onderhoud aan het elektriciteitsnet gaat de koffieochtend op 8 april niet door.
URL:https://elthetokerk.nl/event/koffieochtend-19/
LOCATION:Elthetokerk\, Blokweerweg 22\, Alblasserdam\, Zuid-Holland\, 2953 AB\, Netherlands
END:VEVENT
BEGIN:VEVENT
DTSTART;TZID=Europe/Amsterdam:20260405T100000
DTEND;TZID=Europe/Amsterdam:20260405T110000
DTSTAMP:20260420T081334
CREATED:20260216T150154Z
LAST-MODIFIED:20260216T150154Z
UID:7300-1775383200-1775386800@elthetokerk.nl
SUMMARY:Paasviering: ds. Sandra van Zeeland - van Cassel.
DESCRIPTION:
URL:https://elthetokerk.nl/event/paasviering-ds-sandra-van-zeeland-van-cassel/
LOCATION:Elthetokerk\, Blokweerweg 22\, Alblasserdam\, Zuid-Holland\, 2953 AB\, Netherlands
END:VEVENT
BEGIN:VEVENT
DTSTART;TZID=Europe/Amsterdam:20260404T220000
DTEND;TZID=Europe/Amsterdam:20260404T230000
DTSTAMP:20260420T081334
CREATED:20260216T145916Z
LAST-MODIFIED:20260330T073950Z
UID:7298-1775340000-1775343600@elthetokerk.nl
SUMMARY:Stille Zaterdag: ds. Sandra van Zeeland - van Cassel.
DESCRIPTION:De derde avond van de Paascyclus.
URL:https://elthetokerk.nl/event/stille-zaterdag/
LOCATION:Elthetokerk\, Blokweerweg 22\, Alblasserdam\, Zuid-Holland\, 2953 AB\, Netherlands
END:VEVENT
BEGIN:VEVENT
DTSTART;TZID=Europe/Amsterdam:20260403T193000
DTEND;TZID=Europe/Amsterdam:20260403T203000
DTSTAMP:20260420T081334
CREATED:20260216T145716Z
LAST-MODIFIED:20260330T073852Z
UID:7296-1775244600-1775248200@elthetokerk.nl
SUMMARY:Goede Vrijdag: Viering in eigen beheer.
DESCRIPTION:De tweede avond van de Paascyclus.
URL:https://elthetokerk.nl/event/goede-vrijdag/
LOCATION:Elthetokerk\, Blokweerweg 22\, Alblasserdam\, Zuid-Holland\, 2953 AB\, Netherlands
END:VEVENT
BEGIN:VEVENT
DTSTART;TZID=Europe/Amsterdam:20260402T180000
DTEND;TZID=Europe/Amsterdam:20260402T193000
DTSTAMP:20260420T081334
CREATED:20260216T145445Z
LAST-MODIFIED:20260216T150706Z
UID:7293-1775152800-1775158200@elthetokerk.nl
SUMMARY:Witte Donderdag: ds. Sandra van Zeeland - van Cassel.
DESCRIPTION:In het kader van de Passievieringen\, deze viering van Witte Donderdag. We starten de dienst om 18:00 uur met een sobere maaltijd passend bij deze dag\, om 18:00 uur. Om 19:00 uur vervolgen we de avond met een korte overdenking en viering van het heilig avondmaal. Bent u niet in de gelegenheid om om 18:00 uur aanwezig te zijn\, kunt u ook om 19:00 uur binnenkomen.
URL:https://elthetokerk.nl/event/witte-donderdag/
LOCATION:Elthetokerk\, Blokweerweg 22\, Alblasserdam\, Zuid-Holland\, 2953 AB\, Netherlands
END:VEVENT
BEGIN:VEVENT
DTSTART;TZID=Europe/Amsterdam:20260329T100000
DTEND;TZID=Europe/Amsterdam:20260329T110000
DTSTAMP:20260420T081334
CREATED:20251224T083845Z
LAST-MODIFIED:20251224T083845Z
UID:7109-1774778400-1774782000@elthetokerk.nl
SUMMARY:Kerkdienst. drs. H. de Boer.
DESCRIPTION:
URL:https://elthetokerk.nl/event/kerkdienst-drs-h-de-boer-2/
LOCATION:Elthetokerk\, Blokweerweg 22\, Alblasserdam\, Zuid-Holland\, 2953 AB\, Netherlands
END:VEVENT
BEGIN:VEVENT
DTSTART;TZID=Europe/Amsterdam:20260327T153000
DTEND;TZID=Europe/Amsterdam:20260327T170000
DTSTAMP:20260420T081334
CREATED:20260214T101105Z
LAST-MODIFIED:20260214T101105Z
UID:7274-1774625400-1774630800@elthetokerk.nl
SUMMARY:Maandafsluiting met koffie\, thee en een praatje.
DESCRIPTION:
URL:https://elthetokerk.nl/event/maandafsluiting-met-koffie-thee-en-een-praatje-12/
LOCATION:Elthetokerk\, Blokweerweg 22\, Alblasserdam\, Zuid-Holland\, 2953 AB\, Netherlands
END:VEVENT
BEGIN:VEVENT
DTSTART;TZID=Europe/Amsterdam:20260322T100000
DTEND;TZID=Europe/Amsterdam:20260322T110000
DTSTAMP:20260420T081334
CREATED:20251224T083626Z
LAST-MODIFIED:20260123T091340Z
UID:7107-1774173600-1774177200@elthetokerk.nl
SUMMARY:Kerkdienst. ds. Sandra van Zeeland - van Cassel
DESCRIPTION:Bevestiging / Herbevestiging ambtsdragers.
URL:https://elthetokerk.nl/event/kerkdienst-ds-sandra-van-zeeland-van-cassel-4/
LOCATION:Elthetokerk\, Blokweerweg 22\, Alblasserdam\, Zuid-Holland\, 2953 AB\, Netherlands
END:VEVENT
BEGIN:VEVENT
DTSTART;TZID=Europe/Amsterdam:20260315T100000
DTEND;TZID=Europe/Amsterdam:20260315T110000
DTSTAMP:20260420T081334
CREATED:20251224T083444Z
LAST-MODIFIED:20260305T104426Z
UID:7104-1773568800-1773572400@elthetokerk.nl
SUMMARY:Kerkdienst. dhr. M.A. Lock.
DESCRIPTION:
URL:https://elthetokerk.nl/event/kerkdienst-ds-j-f-klijnsma-3/
LOCATION:Elthetokerk\, Blokweerweg 22\, Alblasserdam\, Zuid-Holland\, 2953 AB\, Netherlands
END:VEVENT
BEGIN:VEVENT
DTSTART;TZID=Europe/Amsterdam:20260311T100000
DTEND;TZID=Europe/Amsterdam:20260311T120000
DTSTAMP:20260420T081334
CREATED:20260214T095341Z
LAST-MODIFIED:20260214T095341Z
UID:7248-1773223200-1773230400@elthetokerk.nl
SUMMARY:Koffieochtend
DESCRIPTION:
URL:https://elthetokerk.nl/event/koffieochtend-18/
LOCATION:Elthetokerk\, Blokweerweg 22\, Alblasserdam\, Zuid-Holland\, 2953 AB\, Netherlands
END:VEVENT
BEGIN:VEVENT
DTSTART;TZID=Europe/Amsterdam:20260308T190000
DTEND;TZID=Europe/Amsterdam:20260308T194500
DTSTAMP:20260420T081334
CREATED:20260202T102354Z
LAST-MODIFIED:20260204T121327Z
UID:7187-1772996400-1772999100@elthetokerk.nl
SUMMARY:Taizé viering
DESCRIPTION:
URL:https://elthetokerk.nl/event/taize-viering-2/
LOCATION:Ontmoetingskerk / De Brug\, Blokweerweg 75\, Alblasserdam\, Zuid-Holland\, 2954PC\, Netherlands
END:VEVENT
BEGIN:VEVENT
DTSTART;TZID=Europe/Amsterdam:20260308T100000
DTEND;TZID=Europe/Amsterdam:20260308T110000
DTSTAMP:20260420T081334
CREATED:20251224T083242Z
LAST-MODIFIED:20251224T083242Z
UID:7101-1772964000-1772967600@elthetokerk.nl
SUMMARY:Kerkdienst. dhr.Sicco de Jong
DESCRIPTION:
URL:https://elthetokerk.nl/event/kerkdienst-dhr-sicco-de-jong/
LOCATION:Elthetokerk\, Blokweerweg 22\, Alblasserdam\, Zuid-Holland\, 2953 AB\, Netherlands
END:VEVENT
BEGIN:VEVENT
DTSTART;TZID=Europe/Amsterdam:20260301T100000
DTEND;TZID=Europe/Amsterdam:20260301T110000
DTSTAMP:20260420T081334
CREATED:20251224T082948Z
LAST-MODIFIED:20251224T083058Z
UID:7097-1772359200-1772362800@elthetokerk.nl
SUMMARY:Kerkdienst. ds. Sandra van Zeeland - van Cassel
DESCRIPTION:(Her) bevestiging ambtsdragers.
URL:https://elthetokerk.nl/event/kerkdienst-ds-sandra-van-zeeland-van-cassel-3/
LOCATION:Elthetokerk\, Blokweerweg 22\, Alblasserdam\, Zuid-Holland\, 2953 AB\, Netherlands
END:VEVENT
BEGIN:VEVENT
DTSTART;TZID=Europe/Amsterdam:20260228T170000
DTEND;TZID=Europe/Amsterdam:20260228T220000
DTSTAMP:20260420T081334
CREATED:20260214T094849Z
LAST-MODIFIED:20260214T094849Z
UID:7243-1772298000-1772316000@elthetokerk.nl
SUMMARY:Elthetotafel
DESCRIPTION:Thema is dit keer warm/koud. \n 
URL:https://elthetokerk.nl/event/elthetotafel/
LOCATION:Elthetokerk\, Blokweerweg 22\, Alblasserdam\, Zuid-Holland\, 2953 AB\, Netherlands
ORGANIZER;CN="Mevr. Heleen Dekker":MAILTO:heleendekker004@gmail.com
END:VEVENT
BEGIN:VEVENT
DTSTART;TZID=Europe/Amsterdam:20260227T153000
DTEND;TZID=Europe/Amsterdam:20260227T170000
DTSTAMP:20260420T081334
CREATED:20260214T095052Z
LAST-MODIFIED:20260214T095052Z
UID:7246-1772206200-1772211600@elthetokerk.nl
SUMMARY:Maandafsluiting met koffie\, thee en een praatje.
DESCRIPTION:
URL:https://elthetokerk.nl/event/maandafsluiting-met-koffie-thee-en-een-praatje-11/
LOCATION:Elthetokerk\, Blokweerweg 22\, Alblasserdam\, Zuid-Holland\, 2953 AB\, Netherlands
END:VEVENT
BEGIN:VEVENT
DTSTART;TZID=Europe/Amsterdam:20260222T100000
DTEND;TZID=Europe/Amsterdam:20260222T110000
DTSTAMP:20260420T081334
CREATED:20251224T082330Z
LAST-MODIFIED:20251224T082608Z
UID:7094-1771754400-1771758000@elthetokerk.nl
SUMMARY:Kerkdienst. dhr. G. Barendrecht.
DESCRIPTION:
URL:https://elthetokerk.nl/event/kerkdienst-ds-sandra-van-zeeland-van-cassel-2/
LOCATION:Elthetokerk\, Blokweerweg 22\, Alblasserdam\, Zuid-Holland\, 2953 AB\, Netherlands
END:VEVENT
BEGIN:VEVENT
DTSTART;TZID=Europe/Amsterdam:20260216T080000
DTEND;TZID=Europe/Amsterdam:20260216T170000
DTSTAMP:20260420T081334
CREATED:20260216T151907Z
LAST-MODIFIED:20260216T151907Z
UID:7316-1771228800-1771261200@elthetokerk.nl
SUMMARY:GEEN KERKDIENST i.v.m. gastdienst in Boskoop.
DESCRIPTION:
URL:https://elthetokerk.nl/event/geen-kerkdienst-i-v-m-gastdienst-in-boskoop/
LOCATION:Zuid-Holland
END:VEVENT
BEGIN:VEVENT
DTSTART;TZID=Europe/Amsterdam:20260215T100000
DTEND;TZID=Europe/Amsterdam:20260215T110000
DTSTAMP:20260420T081334
CREATED:20251224T082156Z
LAST-MODIFIED:20251224T082156Z
UID:7092-1771149600-1771153200@elthetokerk.nl
SUMMARY:Kerkdienst. ds. H. Hartogsveld.
DESCRIPTION:
URL:https://elthetokerk.nl/event/kerkdienst-ds-h-hartogsveld-3/
LOCATION:Elthetokerk\, Blokweerweg 22\, Alblasserdam\, Zuid-Holland\, 2953 AB\, Netherlands
END:VEVENT
BEGIN:VEVENT
DTSTART;TZID=Europe/Amsterdam:20260208T170000
DTEND;TZID=Europe/Amsterdam:20260208T174500
DTSTAMP:20260420T081334
CREATED:20260131T082713Z
LAST-MODIFIED:20260204T121424Z
UID:7178-1770570000-1770572700@elthetokerk.nl
SUMMARY:Taizé viering
DESCRIPTION:
URL:https://elthetokerk.nl/event/taize-viering/
LOCATION:Elthetokerk\, Blokweerweg 22\, Alblasserdam\, Zuid-Holland\, 2953 AB\, Netherlands
END:VEVENT
BEGIN:VEVENT
DTSTART;TZID=Europe/Amsterdam:20260208T100000
DTEND;TZID=Europe/Amsterdam:20260208T110000
DTSTAMP:20260420T081334
CREATED:20251224T081955Z
LAST-MODIFIED:20260123T090904Z
UID:7090-1770544800-1770548400@elthetokerk.nl
SUMMARY:Kerkdienst. ds. Sandra van Zeeland- van Cassel\, Kerk en Schooldienst
DESCRIPTION:Thema van deze dienst is: De wonderbare visvangst.
URL:https://elthetokerk.nl/event/kerkdienst-ds-j-douwes/
LOCATION:Elthetokerk\, Blokweerweg 22\, Alblasserdam\, Zuid-Holland\, 2953 AB\, Netherlands
END:VEVENT
BEGIN:VEVENT
DTSTART;TZID=Europe/Amsterdam:20260201T100000
DTEND;TZID=Europe/Amsterdam:20260201T110000
DTSTAMP:20260420T081334
CREATED:20251224T081746Z
LAST-MODIFIED:20260130T080425Z
UID:7088-1769940000-1769943600@elthetokerk.nl
SUMMARY:Kerkdienst. ds. J. Douwes
DESCRIPTION:
URL:https://elthetokerk.nl/event/kerkdienst-ds-sandra-van-zeeland-van-cassel/
LOCATION:Elthetokerk\, Blokweerweg 22\, Alblasserdam\, Zuid-Holland\, 2953 AB\, Netherlands
END:VEVENT
BEGIN:VEVENT
DTSTART;TZID=Europe/Amsterdam:20260125T100000
DTEND;TZID=Europe/Amsterdam:20260125T110000
DTSTAMP:20260420T081334
CREATED:20251224T081601Z
LAST-MODIFIED:20251224T081601Z
UID:7086-1769335200-1769338800@elthetokerk.nl
SUMMARY:Kerkdienst. dhr. G.Barendrecht
DESCRIPTION:
URL:https://elthetokerk.nl/event/kerkdienst-dhr-g-barendrecht-9/
LOCATION:Elthetokerk\, Blokweerweg 22\, Alblasserdam\, Zuid-Holland\, 2953 AB\, Netherlands
END:VEVENT
BEGIN:VEVENT
DTSTART;TZID=Europe/Amsterdam:20260118T100000
DTEND;TZID=Europe/Amsterdam:20260118T110000
DTSTAMP:20260420T081334
CREATED:20251224T081346Z
LAST-MODIFIED:20251224T081346Z
UID:7081-1768730400-1768734000@elthetokerk.nl
SUMMARY:Kerkdienst. mvr. M.Pieterse.
DESCRIPTION:
URL:https://elthetokerk.nl/event/kerkdienst-mvr-m-pieterse/
LOCATION:Elthetokerk\, Blokweerweg 22\, Alblasserdam\, Zuid-Holland\, 2953 AB\, Netherlands
END:VEVENT
BEGIN:VEVENT
DTSTART;TZID=Europe/Amsterdam:20260111T100000
DTEND;TZID=Europe/Amsterdam:20260111T100000
DTSTAMP:20260420T081334
CREATED:20260108T135226Z
LAST-MODIFIED:20260108T135226Z
UID:7124-1768125600-1768125600@elthetokerk.nl
SUMMARY:GEEN DIENST.
DESCRIPTION:
URL:https://elthetokerk.nl/event/geen-dienst/
LOCATION:Elthetokerk\, Blokweerweg 22\, Alblasserdam\, Zuid-Holland\, 2953 AB\, Netherlands
END:VEVENT
BEGIN:VEVENT
DTSTART;TZID=Europe/Amsterdam:20260104T100000
DTEND;TZID=Europe/Amsterdam:20260104T110000
DTSTAMP:20260420T081334
CREATED:20251224T080547Z
LAST-MODIFIED:20251224T080547Z
UID:7077-1767520800-1767524400@elthetokerk.nl
SUMMARY:Kerkdienst\, Sandra van Zeeland- van Cassel
DESCRIPTION:Nieuwjaarsontmoeting
URL:https://elthetokerk.nl/event/kerkdienst-sandra-van-zeeland-van-cassel/
LOCATION:Elthetokerk\, Blokweerweg 22\, Alblasserdam\, Zuid-Holland\, 2953 AB\, Netherlands
END:VEVENT
END:VCALENDAR