BEGIN:VCALENDAR
VERSION:2.0
PRODID:-//Elthetokerk Alblasserdam VVP-PKN - ECPv6.15.20//NONSGML v1.0//EN
CALSCALE:GREGORIAN
METHOD:PUBLISH
X-WR-CALNAME:Elthetokerk Alblasserdam VVP-PKN
X-ORIGINAL-URL:https://elthetokerk.nl
X-WR-CALDESC:Evenementen voor Elthetokerk Alblasserdam VVP-PKN
REFRESH-INTERVAL;VALUE=DURATION:PT1H
X-Robots-Tag:noindex
X-PUBLISHED-TTL:PT1H
BEGIN:VTIMEZONE
TZID:Europe/Amsterdam
BEGIN:DAYLIGHT
TZOFFSETFROM:+0100
TZOFFSETTO:+0200
TZNAME:CEST
DTSTART:20230326T010000
END:DAYLIGHT
BEGIN:STANDARD
TZOFFSETFROM:+0200
TZOFFSETTO:+0100
TZNAME:CET
DTSTART:20231029T010000
END:STANDARD
BEGIN:DAYLIGHT
TZOFFSETFROM:+0100
TZOFFSETTO:+0200
TZNAME:CEST
DTSTART:20240331T010000
END:DAYLIGHT
BEGIN:STANDARD
TZOFFSETFROM:+0200
TZOFFSETTO:+0100
TZNAME:CET
DTSTART:20241027T010000
END:STANDARD
BEGIN:DAYLIGHT
TZOFFSETFROM:+0100
TZOFFSETTO:+0200
TZNAME:CEST
DTSTART:20250330T010000
END:DAYLIGHT
BEGIN:STANDARD
TZOFFSETFROM:+0200
TZOFFSETTO:+0100
TZNAME:CET
DTSTART:20251026T010000
END:STANDARD
END:VTIMEZONE
BEGIN:VEVENT
DTSTART;TZID=Europe/Amsterdam:20240420T090000
DTEND;TZID=Europe/Amsterdam:20240420T140000
DTSTAMP:20260421T065200
CREATED:20240411T140957Z
LAST-MODIFIED:20240411T141103Z
UID:5819-1713603600-1713621600@elthetokerk.nl
SUMMARY:Elthetomarkt
DESCRIPTION:
URL:https://elthetokerk.nl/event/elthetomarkt/
LOCATION:Elthetokerk\, Blokweerweg 22\, Alblasserdam\, Zuid-Holland\, 2953 AB\, Netherlands
END:VEVENT
BEGIN:VEVENT
DTSTART;TZID=Europe/Amsterdam:20240414T100000
DTEND;TZID=Europe/Amsterdam:20240414T110000
DTSTAMP:20260421T065200
CREATED:20240404T074358Z
LAST-MODIFIED:20240404T074358Z
UID:5777-1713088800-1713092400@elthetokerk.nl
SUMMARY:Kerkdienst\, mevr. Th. Verspui
DESCRIPTION:
URL:https://elthetokerk.nl/event/kerkdienst-mevr-th-verspui/
LOCATION:Elthetokerk\, Blokweerweg 22\, Alblasserdam\, Zuid-Holland\, 2953 AB\, Netherlands
END:VEVENT
BEGIN:VEVENT
DTSTART;TZID=Europe/Amsterdam:20240410T100000
DTEND;TZID=Europe/Amsterdam:20240410T110000
DTSTAMP:20260421T065200
CREATED:20240404T092235Z
LAST-MODIFIED:20240404T092235Z
UID:5801-1712743200-1712746800@elthetokerk.nl
SUMMARY:Koffieochtend
DESCRIPTION:
URL:https://elthetokerk.nl/event/koffieochtend/
LOCATION:Elthetokerk\, Blokweerweg 22\, Alblasserdam\, Zuid-Holland\, 2953 AB\, Netherlands
END:VEVENT
BEGIN:VEVENT
DTSTART;TZID=Europe/Amsterdam:20240407T100000
DTEND;TZID=Europe/Amsterdam:20240407T110000
DTSTAMP:20260421T065200
CREATED:20240403T195558Z
LAST-MODIFIED:20240404T073908Z
UID:5767-1712484000-1712487600@elthetokerk.nl
SUMMARY:Kerkdienst\, mevr.ds.A. van der Meiden
DESCRIPTION:
URL:https://elthetokerk.nl/event/kerkdienst-concept/
LOCATION:Elthetokerk\, Blokweerweg 22\, Alblasserdam\, Zuid-Holland\, 2953 AB\, Netherlands
CATEGORIES:kerkdiensten
END:VEVENT
END:VCALENDAR