BEGIN:VCALENDAR
VERSION:2.0
PRODID:-//Elthetokerk Alblasserdam VVP-PKN - ECPv6.15.20//NONSGML v1.0//EN
CALSCALE:GREGORIAN
METHOD:PUBLISH
X-WR-CALNAME:Elthetokerk Alblasserdam VVP-PKN
X-ORIGINAL-URL:https://elthetokerk.nl
X-WR-CALDESC:Evenementen voor Elthetokerk Alblasserdam VVP-PKN
REFRESH-INTERVAL;VALUE=DURATION:PT1H
X-Robots-Tag:noindex
X-PUBLISHED-TTL:PT1H
BEGIN:VTIMEZONE
TZID:Europe/Amsterdam
BEGIN:DAYLIGHT
TZOFFSETFROM:+0100
TZOFFSETTO:+0200
TZNAME:CEST
DTSTART:20230326T010000
END:DAYLIGHT
BEGIN:STANDARD
TZOFFSETFROM:+0200
TZOFFSETTO:+0100
TZNAME:CET
DTSTART:20231029T010000
END:STANDARD
BEGIN:DAYLIGHT
TZOFFSETFROM:+0100
TZOFFSETTO:+0200
TZNAME:CEST
DTSTART:20240331T010000
END:DAYLIGHT
BEGIN:STANDARD
TZOFFSETFROM:+0200
TZOFFSETTO:+0100
TZNAME:CET
DTSTART:20241027T010000
END:STANDARD
BEGIN:DAYLIGHT
TZOFFSETFROM:+0100
TZOFFSETTO:+0200
TZNAME:CEST
DTSTART:20250330T010000
END:DAYLIGHT
BEGIN:STANDARD
TZOFFSETFROM:+0200
TZOFFSETTO:+0100
TZNAME:CET
DTSTART:20251026T010000
END:STANDARD
END:VTIMEZONE
BEGIN:VEVENT
DTSTART;TZID=Europe/Amsterdam:20241006T100000
DTEND;TZID=Europe/Amsterdam:20241006T110000
DTSTAMP:20260421T005633
CREATED:20240910T122136Z
LAST-MODIFIED:20240910T122136Z
UID:6011-1728208800-1728212400@elthetokerk.nl
SUMMARY:Kerkdienst. Mevr. Ds. Hester Radstake.
DESCRIPTION:
URL:https://elthetokerk.nl/event/kerkdienst-mevr-ds-hester-radstake/
LOCATION:Elthetokerk\, Blokweerweg 22\, Alblasserdam\, Zuid-Holland\, 2953 AB\, Netherlands
END:VEVENT
BEGIN:VEVENT
DTSTART;TZID=Europe/Amsterdam:20240929T100000
DTEND;TZID=Europe/Amsterdam:20240929T110000
DTSTAMP:20260421T005633
CREATED:20240910T121913Z
LAST-MODIFIED:20240910T121913Z
UID:6009-1727604000-1727607600@elthetokerk.nl
SUMMARY:Kerkdienst Mevr. Ds. H.J.K. van Geerenstein.
DESCRIPTION:
URL:https://elthetokerk.nl/event/kerkdienst-mevr-ds-h-j-k-van-geerenstein/
LOCATION:Elthetokerk\, Blokweerweg 22\, Alblasserdam\, Zuid-Holland\, 2953 AB\, Netherlands
END:VEVENT
BEGIN:VEVENT
DTSTART;TZID=Europe/Amsterdam:20240922T100000
DTEND;TZID=Europe/Amsterdam:20240922T110000
DTSTAMP:20260421T005633
CREATED:20240910T121613Z
LAST-MODIFIED:20240910T121613Z
UID:6007-1726999200-1727002800@elthetokerk.nl
SUMMARY:Kerkdienst Dhr. S.c. de Jong.
DESCRIPTION:
URL:https://elthetokerk.nl/event/kerkdienst-dhr-s-c-de-jong/
LOCATION:Elthetokerk\, Blokweerweg 22\, Alblasserdam\, Zuid-Holland\, 2953 AB\, Netherlands
END:VEVENT
BEGIN:VEVENT
DTSTART;TZID=Europe/Amsterdam:20240915T100000
DTEND;TZID=Europe/Amsterdam:20240915T110000
DTSTAMP:20260421T005633
CREATED:20240910T121437Z
LAST-MODIFIED:20240910T121437Z
UID:6004-1726394400-1726398000@elthetokerk.nl
SUMMARY:Kerkdienst Ds. H.Hartogsveld.
DESCRIPTION:
URL:https://elthetokerk.nl/event/kerkdienst-ds-h-hartogsveld-2/
LOCATION:Elthetokerk\, Blokweerweg 22\, Alblasserdam\, Zuid-Holland\, 2953 AB\, Netherlands
END:VEVENT
BEGIN:VEVENT
DTSTART;TZID=Europe/Amsterdam:20240908T100000
DTEND;TZID=Europe/Amsterdam:20240908T110000
DTSTAMP:20260421T005633
CREATED:20240910T121326Z
LAST-MODIFIED:20240910T121326Z
UID:6002-1725789600-1725793200@elthetokerk.nl
SUMMARY:Kerkdienst. Dhr. G.Barendrecht.
DESCRIPTION:
URL:https://elthetokerk.nl/event/kerkdienst-dhr-g-barendrecht-3/
LOCATION:Elthetokerk\, Blokweerweg 22\, Alblasserdam\, Zuid-Holland\, 2953 AB\, Netherlands
END:VEVENT
BEGIN:VEVENT
DTSTART;TZID=Europe/Amsterdam:20240901T100000
DTEND;TZID=Europe/Amsterdam:20240901T110000
DTSTAMP:20260421T005633
CREATED:20240910T121026Z
LAST-MODIFIED:20240910T121026Z
UID:6000-1725184800-1725188400@elthetokerk.nl
SUMMARY:Kerkdienst mevr. Ds.M.Kwant
DESCRIPTION:
URL:https://elthetokerk.nl/event/kerkdienst-mevr-ds-m-kwant/
LOCATION:Zuid-Holland
END:VEVENT
BEGIN:VEVENT
DTSTART;TZID=Europe/Amsterdam:20240830T153000
DTEND;TZID=Europe/Amsterdam:20240830T170000
DTSTAMP:20260421T005633
CREATED:20240529T114122Z
LAST-MODIFIED:20240529T114122Z
UID:5910-1725031800-1725037200@elthetokerk.nl
SUMMARY:Maandafsluiting met koffie\, thee en een praatje
DESCRIPTION:
URL:https://elthetokerk.nl/event/maandafsluiting-met-koffie-thee-en-een-praatje/
LOCATION:Elthetokerk\, Blokweerweg 22\, Alblasserdam\, Zuid-Holland\, 2953 AB\, Netherlands
END:VEVENT
BEGIN:VEVENT
DTSTART;TZID=Europe/Amsterdam:20240825T100000
DTEND;TZID=Europe/Amsterdam:20240825T110000
DTSTAMP:20260421T005633
CREATED:20240529T113329Z
LAST-MODIFIED:20240529T113329Z
UID:5895-1724580000-1724583600@elthetokerk.nl
SUMMARY:kerkdienst Ds J.F. Klijnsma
DESCRIPTION:
URL:https://elthetokerk.nl/event/kerkdienst-ds-j-f-klijnsma/
LOCATION:Zuid-Holland
END:VEVENT
BEGIN:VEVENT
DTSTART;TZID=Europe/Amsterdam:20240818T100000
DTEND;TZID=Europe/Amsterdam:20240818T110000
DTSTAMP:20260421T005633
CREATED:20240529T113212Z
LAST-MODIFIED:20240529T113212Z
UID:5892-1723975200-1723978800@elthetokerk.nl
SUMMARY:Kerkdienst Dhr A Meiresonne
DESCRIPTION:
URL:https://elthetokerk.nl/event/kerkdienst-dhr-a-meiresonne/
LOCATION:Elthetokerk\, Blokweerweg 22\, Alblasserdam\, Zuid-Holland\, 2953 AB\, Netherlands
END:VEVENT
BEGIN:VEVENT
DTSTART;TZID=Europe/Amsterdam:20240814T100000
DTEND;TZID=Europe/Amsterdam:20240814T120000
DTSTAMP:20260421T005633
CREATED:20240529T113722Z
LAST-MODIFIED:20240529T113722Z
UID:5903-1723629600-1723636800@elthetokerk.nl
SUMMARY:koffieochtend
DESCRIPTION:
URL:https://elthetokerk.nl/event/koffieochtend-3/
LOCATION:Elthetokerk\, Blokweerweg 22\, Alblasserdam\, Zuid-Holland\, 2953 AB\, Netherlands
END:VEVENT
BEGIN:VEVENT
DTSTART;TZID=Europe/Amsterdam:20240811T100000
DTEND;TZID=Europe/Amsterdam:20240811T110000
DTSTAMP:20260421T005633
CREATED:20240529T113036Z
LAST-MODIFIED:20240529T113036Z
UID:5890-1723370400-1723374000@elthetokerk.nl
SUMMARY:Kerkdienst. Mw M. Nieuwenhuis- den Dulk
DESCRIPTION:
URL:https://elthetokerk.nl/event/kerkdienst-mw-m-nieuwenhuis-den-dulk/
LOCATION:Elthetokerk\, Blokweerweg 22\, Alblasserdam\, Zuid-Holland\, 2953 AB\, Netherlands
END:VEVENT
BEGIN:VEVENT
DTSTART;TZID=Europe/Amsterdam:20240804T100000
DTEND;TZID=Europe/Amsterdam:20240804T110000
DTSTAMP:20260421T005633
CREATED:20240529T112911Z
LAST-MODIFIED:20240529T112911Z
UID:5887-1722765600-1722769200@elthetokerk.nl
SUMMARY:Kerkdienst Mevr. T. Verspui
DESCRIPTION:
URL:https://elthetokerk.nl/event/kerkdienst-mevr-t-verspui/
LOCATION:Elthetokerk\, Blokweerweg 22\, Alblasserdam\, Zuid-Holland\, 2953 AB\, Netherlands
END:VEVENT
BEGIN:VEVENT
DTSTART;TZID=Europe/Amsterdam:20240728T100000
DTEND;TZID=Europe/Amsterdam:20240728T110000
DTSTAMP:20260421T005633
CREATED:20240529T112752Z
LAST-MODIFIED:20240529T112752Z
UID:5884-1722160800-1722164400@elthetokerk.nl
SUMMARY:Kerkdienst. Ds Jansen ( Vlissingen)
DESCRIPTION:
URL:https://elthetokerk.nl/event/kerkdienst-ds-jansen-vlissingen/
LOCATION:Elthetokerk\, Blokweerweg 22\, Alblasserdam\, Zuid-Holland\, 2953 AB\, Netherlands
END:VEVENT
BEGIN:VEVENT
DTSTART;TZID=Europe/Amsterdam:20240721T100000
DTEND;TZID=Europe/Amsterdam:20240721T110000
DTSTAMP:20260421T005633
CREATED:20240529T112630Z
LAST-MODIFIED:20240529T112630Z
UID:5882-1721556000-1721559600@elthetokerk.nl
SUMMARY:Kerkdienst. Ds J. Kraal
DESCRIPTION:
URL:https://elthetokerk.nl/event/kerkdienst-ds-j-kraal/
LOCATION:Elthetokerk\, Blokweerweg 22\, Alblasserdam\, Zuid-Holland\, 2953 AB\, Netherlands
END:VEVENT
BEGIN:VEVENT
DTSTART;TZID=Europe/Amsterdam:20240714T100000
DTEND;TZID=Europe/Amsterdam:20240714T110000
DTSTAMP:20260421T005633
CREATED:20240529T112453Z
LAST-MODIFIED:20240529T112453Z
UID:5879-1720951200-1720954800@elthetokerk.nl
SUMMARY:Kerkdienst Drs H. de Boer
DESCRIPTION:
URL:https://elthetokerk.nl/event/kerkdienst-drs-h-de-boer/
LOCATION:Elthetokerk\, Blokweerweg 22\, Alblasserdam\, Zuid-Holland\, 2953 AB\, Netherlands
END:VEVENT
BEGIN:VEVENT
DTSTART;TZID=Europe/Amsterdam:20240710T100000
DTEND;TZID=Europe/Amsterdam:20240710T120000
DTSTAMP:20260421T005633
CREATED:20240529T113602Z
LAST-MODIFIED:20240529T113602Z
UID:5900-1720605600-1720612800@elthetokerk.nl
SUMMARY:Koiffieochtend
DESCRIPTION:
URL:https://elthetokerk.nl/event/koiffieochtend/
LOCATION:Elthetokerk\, Blokweerweg 22\, Alblasserdam\, Zuid-Holland\, 2953 AB\, Netherlands
END:VEVENT
BEGIN:VEVENT
DTSTART;TZID=Europe/Amsterdam:20240707T100000
DTEND;TZID=Europe/Amsterdam:20240707T110000
DTSTAMP:20260421T005633
CREATED:20240411T082749Z
LAST-MODIFIED:20240411T082830Z
UID:5807-1720346400-1720350000@elthetokerk.nl
SUMMARY:Kinderkring Thema: "Zomervakantie".
DESCRIPTION:
URL:https://elthetokerk.nl/event/kinderkring-thema-zomervakantie/
LOCATION:Elthetokerk\, Blokweerweg 22\, Alblasserdam\, Zuid-Holland\, 2953 AB\, Netherlands
END:VEVENT
BEGIN:VEVENT
DTSTART;TZID=Europe/Amsterdam:20240630T100000
DTEND;TZID=Europe/Amsterdam:20240630T110000
DTSTAMP:20260421T005633
CREATED:20240529T112134Z
LAST-MODIFIED:20240529T112134Z
UID:5873-1719741600-1719745200@elthetokerk.nl
SUMMARY:Kerkdienst. Ds P. Veldhuizen
DESCRIPTION:
URL:https://elthetokerk.nl/event/kerkdienst-ds-p-veldhuizen/
LOCATION:Elthetokerk\, Blokweerweg 22\, Alblasserdam\, Zuid-Holland\, 2953 AB\, Netherlands
END:VEVENT
BEGIN:VEVENT
DTSTART;TZID=Europe/Amsterdam:20240628T153000
DTEND;TZID=Europe/Amsterdam:20240628T170000
DTSTAMP:20260421T005633
CREATED:20240529T114005Z
LAST-MODIFIED:20240529T114005Z
UID:5908-1719588600-1719594000@elthetokerk.nl
SUMMARY:Maandafsluiitng met koffie\, thee en een praatje
DESCRIPTION:
URL:https://elthetokerk.nl/event/maandafsluiitng-met-koffie-thee-en-een-praatje/
LOCATION:Elthetokerk\, Blokweerweg 22\, Alblasserdam\, Zuid-Holland\, 2953 AB\, Netherlands
END:VEVENT
BEGIN:VEVENT
DTSTART;TZID=Europe/Amsterdam:20240623T100000
DTEND;TZID=Europe/Amsterdam:20240623T110000
DTSTAMP:20260421T005633
CREATED:20240529T112023Z
LAST-MODIFIED:20240529T112023Z
UID:5870-1719136800-1719140400@elthetokerk.nl
SUMMARY:Kerkdienst. Ds D. Steenks
DESCRIPTION:
URL:https://elthetokerk.nl/event/kerkdienst-ds-d-steenks/
LOCATION:Elthetokerk\, Blokweerweg 22\, Alblasserdam\, Zuid-Holland\, 2953 AB\, Netherlands
END:VEVENT
BEGIN:VEVENT
DTSTART;TZID=Europe/Amsterdam:20240616T100000
DTEND;TZID=Europe/Amsterdam:20240616T110000
DTSTAMP:20260421T005633
CREATED:20240529T111851Z
LAST-MODIFIED:20240529T111851Z
UID:5867-1718532000-1718535600@elthetokerk.nl
SUMMARY:Kerkdienst. Avondmaal. Ds H. Radstake
DESCRIPTION:
URL:https://elthetokerk.nl/event/kerkdienst-avondmaal-ds-h-radstake/
LOCATION:Elthetokerk\, Blokweerweg 22\, Alblasserdam\, Zuid-Holland\, 2953 AB\, Netherlands
END:VEVENT
BEGIN:VEVENT
DTSTART;TZID=Europe/Amsterdam:20240612T100000
DTEND;TZID=Europe/Amsterdam:20240612T120000
DTSTAMP:20260421T005633
CREATED:20240529T113501Z
LAST-MODIFIED:20240529T113501Z
UID:5898-1718186400-1718193600@elthetokerk.nl
SUMMARY:Koffieochtend
DESCRIPTION:
URL:https://elthetokerk.nl/event/koffieochtend-2/
LOCATION:Elthetokerk\, Blokweerweg 22\, Alblasserdam\, Zuid-Holland\, 2953 AB\, Netherlands
END:VEVENT
BEGIN:VEVENT
DTSTART;TZID=Europe/Amsterdam:20240609T100000
DTEND;TZID=Europe/Amsterdam:20240609T110000
DTSTAMP:20260421T005633
CREATED:20240529T111602Z
LAST-MODIFIED:20240529T111602Z
UID:5864-1717927200-1717930800@elthetokerk.nl
SUMMARY:Kerkdienst. Dhr. G. Barendrecht.
DESCRIPTION:
URL:https://elthetokerk.nl/event/kerkdienst-dhr-g-barendrecht-2/
LOCATION:Elthetokerk\, Blokweerweg 22\, Alblasserdam\, Zuid-Holland\, 2953 AB\, Netherlands
END:VEVENT
BEGIN:VEVENT
DTSTART;TZID=Europe/Amsterdam:20240608T170000
DTEND;TZID=Europe/Amsterdam:20240608T200000
DTSTAMP:20260421T005633
CREATED:20240529T114234Z
LAST-MODIFIED:20240529T114330Z
UID:5913-1717866000-1717876800@elthetokerk.nl
SUMMARY:Elthetotafel thema vakantie
DESCRIPTION:
URL:https://elthetokerk.nl/event/elthetotafel-thema-vakantie/
LOCATION:Zuid-Holland
END:VEVENT
BEGIN:VEVENT
DTSTART;TZID=Europe/Amsterdam:20240602T100000
DTEND;TZID=Europe/Amsterdam:20240602T110000
DTSTAMP:20260421T005633
CREATED:20240529T111306Z
LAST-MODIFIED:20240529T111306Z
UID:5862-1717322400-1717326000@elthetokerk.nl
SUMMARY:Kerkdienst Dhr. S\,C. de Jong
DESCRIPTION:
URL:https://elthetokerk.nl/event/kerkdienst-dhr-sc-de-jong/
LOCATION:Elthetokerk\, Blokweerweg 22\, Alblasserdam\, Zuid-Holland\, 2953 AB\, Netherlands
END:VEVENT
BEGIN:VEVENT
DTSTART;TZID=Europe/Amsterdam:20240531T153000
DTEND;TZID=Europe/Amsterdam:20240531T170000
DTSTAMP:20260421T005633
CREATED:20240529T113900Z
LAST-MODIFIED:20240529T113900Z
UID:5905-1717169400-1717174800@elthetokerk.nl
SUMMARY:Maandafsluiting met koffie en thee en een praatje
DESCRIPTION:
URL:https://elthetokerk.nl/event/maandafsluiting-met-koffie-en-thee-en-een-praatje/
LOCATION:Elthetokerk\, Blokweerweg 22\, Alblasserdam\, Zuid-Holland\, 2953 AB\, Netherlands
END:VEVENT
BEGIN:VEVENT
DTSTART;TZID=Europe/Amsterdam:20240526T100000
DTEND;TZID=Europe/Amsterdam:20240526T110000
DTSTAMP:20260421T005633
CREATED:20240404T075830Z
LAST-MODIFIED:20240404T075830Z
UID:5789-1716717600-1716721200@elthetokerk.nl
SUMMARY:Kerkdienst\, mevr. ds. S. van Zeeland.
DESCRIPTION:
URL:https://elthetokerk.nl/event/kerkdienst-mevr-ds-s-van-zeeland/
LOCATION:Elthetokerk\, Blokweerweg 22\, Alblasserdam\, Zuid-Holland\, 2953 AB\, Netherlands
END:VEVENT
BEGIN:VEVENT
DTSTART;TZID=Europe/Amsterdam:20240519T100000
DTEND;TZID=Europe/Amsterdam:20240519T110000
DTSTAMP:20260421T005633
CREATED:20240404T075649Z
LAST-MODIFIED:20240404T075649Z
UID:5787-1716112800-1716116400@elthetokerk.nl
SUMMARY:Kerkdienst\, drs. Z. Albada.
DESCRIPTION:
URL:https://elthetokerk.nl/event/kerkdienst-drs-z-albada/
LOCATION:Elthetokerk\, Blokweerweg 22\, Alblasserdam\, Zuid-Holland\, 2953 AB\, Netherlands
END:VEVENT
BEGIN:VEVENT
DTSTART;TZID=Europe/Amsterdam:20240512T100000
DTEND;TZID=Europe/Amsterdam:20240512T110000
DTSTAMP:20260421T005633
CREATED:20240404T075513Z
LAST-MODIFIED:20240404T075513Z
UID:5785-1715508000-1715511600@elthetokerk.nl
SUMMARY:Kerkdienst\, ds. H.Hartogsveld.
DESCRIPTION:
URL:https://elthetokerk.nl/event/kerkdienst-ds-h-hartogsveld/
LOCATION:Elthetokerk\, Blokweerweg 22\, Alblasserdam\, Zuid-Holland\, 2953 AB\, Netherlands
END:VEVENT
BEGIN:VEVENT
DTSTART;TZID=Europe/Amsterdam:20240505T100000
DTEND;TZID=Europe/Amsterdam:20240505T110000
DTSTAMP:20260421T005633
CREATED:20240404T075313Z
LAST-MODIFIED:20240404T075313Z
UID:5783-1714903200-1714906800@elthetokerk.nl
SUMMARY:Kerkdienst\, mevr. M.Nieuwenhuis
DESCRIPTION:
URL:https://elthetokerk.nl/event/kerkdienst-mevr-m-nieuwenhuis/
LOCATION:Elthetokerk\, Blokweerweg 22\, Alblasserdam\, Zuid-Holland\, 2953 AB\, Netherlands
END:VEVENT
END:VCALENDAR