BEGIN:VCALENDAR
VERSION:2.0
PRODID:-//Elthetokerk Alblasserdam VVP-PKN - ECPv6.15.20//NONSGML v1.0//EN
CALSCALE:GREGORIAN
METHOD:PUBLISH
X-WR-CALNAME:Elthetokerk Alblasserdam VVP-PKN
X-ORIGINAL-URL:https://elthetokerk.nl
X-WR-CALDESC:Evenementen voor Elthetokerk Alblasserdam VVP-PKN
REFRESH-INTERVAL;VALUE=DURATION:PT1H
X-Robots-Tag:noindex
X-PUBLISHED-TTL:PT1H
BEGIN:VTIMEZONE
TZID:Europe/Amsterdam
BEGIN:DAYLIGHT
TZOFFSETFROM:+0100
TZOFFSETTO:+0200
TZNAME:CEST
DTSTART:20230326T010000
END:DAYLIGHT
BEGIN:STANDARD
TZOFFSETFROM:+0200
TZOFFSETTO:+0100
TZNAME:CET
DTSTART:20231029T010000
END:STANDARD
BEGIN:DAYLIGHT
TZOFFSETFROM:+0100
TZOFFSETTO:+0200
TZNAME:CEST
DTSTART:20240331T010000
END:DAYLIGHT
BEGIN:STANDARD
TZOFFSETFROM:+0200
TZOFFSETTO:+0100
TZNAME:CET
DTSTART:20241027T010000
END:STANDARD
BEGIN:DAYLIGHT
TZOFFSETFROM:+0100
TZOFFSETTO:+0200
TZNAME:CEST
DTSTART:20250330T010000
END:DAYLIGHT
BEGIN:STANDARD
TZOFFSETFROM:+0200
TZOFFSETTO:+0100
TZNAME:CET
DTSTART:20251026T010000
END:STANDARD
BEGIN:DAYLIGHT
TZOFFSETFROM:+0100
TZOFFSETTO:+0200
TZNAME:CEST
DTSTART:20260329T010000
END:DAYLIGHT
BEGIN:STANDARD
TZOFFSETFROM:+0200
TZOFFSETTO:+0100
TZNAME:CET
DTSTART:20261025T010000
END:STANDARD
END:VTIMEZONE
BEGIN:VEVENT
DTSTART;TZID=Europe/Amsterdam:20250223T100000
DTEND;TZID=Europe/Amsterdam:20250223T110000
DTSTAMP:20260420T081753
CREATED:20250206T175748Z
LAST-MODIFIED:20250206T175748Z
UID:6415-1740304800-1740308400@elthetokerk.nl
SUMMARY:Kerkdienst. Dhr. S.C. de Jong
DESCRIPTION:
URL:https://elthetokerk.nl/event/kerkdienst-dhr-s-c-de-jong-3/
LOCATION:Elthetokerk\, Blokweerweg 22\, Alblasserdam\, Zuid-Holland\, 2953 AB\, Netherlands
END:VEVENT
BEGIN:VEVENT
DTSTART;TZID=Europe/Amsterdam:20250216T100000
DTEND;TZID=Europe/Amsterdam:20250216T110000
DTSTAMP:20260420T081753
CREATED:20250206T175618Z
LAST-MODIFIED:20250206T181045Z
UID:6413-1739700000-1739703600@elthetokerk.nl
SUMMARY:Kerkdienst\, Mw.ds. S. van Zeeland
DESCRIPTION:Afsluiting Kerk & Schoolweek
URL:https://elthetokerk.nl/event/kerkdienst-mw-ds-s-van-zeeland/
LOCATION:Elthetokerk\, Blokweerweg 22\, Alblasserdam\, Zuid-Holland\, 2953 AB\, Netherlands
END:VEVENT
BEGIN:VEVENT
DTSTART;TZID=Europe/Amsterdam:20250212T100000
DTEND;TZID=Europe/Amsterdam:20250212T120000
DTSTAMP:20260420T081753
CREATED:20250206T175444Z
LAST-MODIFIED:20250206T175444Z
UID:6411-1739354400-1739361600@elthetokerk.nl
SUMMARY:Koffieochtend.
DESCRIPTION:
URL:https://elthetokerk.nl/event/koffieochtend-8/
LOCATION:Elthetokerk\, Blokweerweg 22\, Alblasserdam\, Zuid-Holland\, 2953 AB\, Netherlands
END:VEVENT
BEGIN:VEVENT
DTSTART;TZID=Europe/Amsterdam:20250209T100000
DTEND;TZID=Europe/Amsterdam:20250209T110000
DTSTAMP:20260420T081753
CREATED:20250206T175259Z
LAST-MODIFIED:20250206T175259Z
UID:6409-1739095200-1739098800@elthetokerk.nl
SUMMARY:Kerkdienst Dhr. drs. H. de Boer
DESCRIPTION:
URL:https://elthetokerk.nl/event/kerkdienst-dhr-drs-h-de-boer/
LOCATION:Elthetokerk\, Blokweerweg 22\, Alblasserdam\, Zuid-Holland\, 2953 AB\, Netherlands
END:VEVENT
BEGIN:VEVENT
DTSTART;TZID=Europe/Amsterdam:20250202T100000
DTEND;TZID=Europe/Amsterdam:20250202T110000
DTSTAMP:20260420T081753
CREATED:20250206T175047Z
LAST-MODIFIED:20250206T175047Z
UID:6407-1738490400-1738494000@elthetokerk.nl
SUMMARY:Kerkdienst\, Mw.ds.A.van Geerenstein
DESCRIPTION:
URL:https://elthetokerk.nl/event/kerkdienst-mw-ds-a-van-geerenstein/
LOCATION:Elthetokerk\, Blokweerweg 22\, Alblasserdam\, Zuid-Holland\, 2953 AB\, Netherlands
END:VEVENT
BEGIN:VEVENT
DTSTART;TZID=Europe/Amsterdam:20250131T143000
DTEND;TZID=Europe/Amsterdam:20250131T170000
DTSTAMP:20260420T081753
CREATED:20241228T090641Z
LAST-MODIFIED:20241228T090641Z
UID:6353-1738333800-1738342800@elthetokerk.nl
SUMMARY:Maandafsluiting\, met koffie\, thee en een praatje\,
DESCRIPTION:
URL:https://elthetokerk.nl/event/maandafsluiting-met-koffie-thee-en-een-praatje-4/
LOCATION:Zuid-Holland
END:VEVENT
BEGIN:VEVENT
DTSTART;TZID=Europe/Amsterdam:20250126T100000
DTEND;TZID=Europe/Amsterdam:20250126T110000
DTSTAMP:20260420T081753
CREATED:20241228T090130Z
LAST-MODIFIED:20250106T103316Z
UID:6351-1737885600-1737889200@elthetokerk.nl
SUMMARY:Kerkdienst: mevr. M.Pieterse.
DESCRIPTION:
URL:https://elthetokerk.nl/event/kerkdienst-mevr-m-pieterse/
LOCATION:Elthetokerk\, Blokweerweg 22\, Alblasserdam\, Zuid-Holland\, 2953 AB\, Netherlands
END:VEVENT
BEGIN:VEVENT
DTSTART;TZID=Europe/Amsterdam:20250119T100000
DTEND;TZID=Europe/Amsterdam:20250119T110000
DTSTAMP:20260420T081753
CREATED:20241228T090003Z
LAST-MODIFIED:20250106T103400Z
UID:6349-1737280800-1737284400@elthetokerk.nl
SUMMARY:Kerkdienst: dhr. ds. W.Lagrouw.
DESCRIPTION:
URL:https://elthetokerk.nl/event/kerkdienst-dhr-ds-w-lagrouw/
LOCATION:Elthetokerk\, Blokweerweg 22\, Alblasserdam\, Zuid-Holland\, 2953 AB\, Netherlands
END:VEVENT
BEGIN:VEVENT
DTSTART;TZID=Europe/Amsterdam:20250112T100000
DTEND;TZID=Europe/Amsterdam:20250112T110000
DTSTAMP:20260420T081753
CREATED:20241228T085813Z
LAST-MODIFIED:20250106T103432Z
UID:6347-1736676000-1736679600@elthetokerk.nl
SUMMARY:Kerkdienst: dhr. drs. Z. Albada
DESCRIPTION:
URL:https://elthetokerk.nl/event/kerkdienst-dhr-drs-z-albada/
LOCATION:Elthetokerk\, Blokweerweg 22\, Alblasserdam\, Zuid-Holland\, 2953 AB\, Netherlands
END:VEVENT
BEGIN:VEVENT
DTSTART;TZID=Europe/Amsterdam:20250108T100000
DTEND;TZID=Europe/Amsterdam:20250108T140000
DTSTAMP:20260420T081753
CREATED:20241228T090858Z
LAST-MODIFIED:20250106T103127Z
UID:6355-1736330400-1736344800@elthetokerk.nl
SUMMARY:Koffieochtend
DESCRIPTION:Het is een verlengde koffieochtend met erwtensoep en meer……  Evert Wisgerhof zal een presentatie verzorgen over IJsland.
URL:https://elthetokerk.nl/event/koffieochtend-7/
LOCATION:Elthetokerk\, Blokweerweg 22\, Alblasserdam\, Zuid-Holland\, 2953 AB\, Netherlands
END:VEVENT
BEGIN:VEVENT
DTSTART;TZID=Europe/Amsterdam:20250105T100000
DTEND;TZID=Europe/Amsterdam:20250105T110000
DTSTAMP:20260420T081753
CREATED:20241228T085630Z
LAST-MODIFIED:20241228T085630Z
UID:6345-1736071200-1736074800@elthetokerk.nl
SUMMARY:Kerkdienst: mevr. ds. Sandra van Zeeland - van Cassel. (Nieuwjaarsontmoeting)
DESCRIPTION:
URL:https://elthetokerk.nl/event/kerkdienst-mevr-ds-sandra-van-zeeland-van-cassel-nieuwjaarsontmoeting/
LOCATION:Zuid-Holland
END:VEVENT
BEGIN:VEVENT
DTSTART;TZID=Europe/Amsterdam:20241229T100000
DTEND;TZID=Europe/Amsterdam:20241229T113000
DTSTAMP:20260420T081753
CREATED:20241228T084509Z
LAST-MODIFIED:20241228T084509Z
UID:6342-1735466400-1735471800@elthetokerk.nl
SUMMARY:Eindejaarsontmoeting met koffie en thee. (GEEN KERKDIENST)
DESCRIPTION:
URL:https://elthetokerk.nl/event/eindejaarsontmoeting-met-koffie-en-thee-geen-kerkdienst/
LOCATION:Zuid-Holland
END:VEVENT
BEGIN:VEVENT
DTSTART;TZID=Europe/Amsterdam:20241227T153000
DTEND;TZID=Europe/Amsterdam:20241227T170000
DTSTAMP:20260420T081753
CREATED:20241119T084610Z
LAST-MODIFIED:20241119T084610Z
UID:6207-1735313400-1735318800@elthetokerk.nl
SUMMARY:Maandafsluiting\, met koffie\, thee en een praatje.
DESCRIPTION:
URL:https://elthetokerk.nl/event/maandafsluiting-met-koffie-thee-en-een-praatje-3/
LOCATION:Zuid-Holland
END:VEVENT
BEGIN:VEVENT
DTSTART;TZID=Europe/Amsterdam:20241225T100000
DTEND;TZID=Europe/Amsterdam:20241225T110000
DTSTAMP:20260420T081753
CREATED:20241119T083030Z
LAST-MODIFIED:20241119T083030Z
UID:6201-1735120800-1735124400@elthetokerk.nl
SUMMARY:Kinderkerstfeest. (eigen beheer)
DESCRIPTION:
URL:https://elthetokerk.nl/event/kinderkerstfeest-eigen-beheer/
LOCATION:Elthetokerk\, Blokweerweg 22\, Alblasserdam\, Zuid-Holland\, 2953 AB\, Netherlands
END:VEVENT
BEGIN:VEVENT
DTSTART;TZID=Europe/Amsterdam:20241224T220000
DTEND;TZID=Europe/Amsterdam:20241224T230000
DTSTAMP:20260420T081753
CREATED:20241119T082912Z
LAST-MODIFIED:20241119T082912Z
UID:6199-1735077600-1735081200@elthetokerk.nl
SUMMARY:Kerkdienst\, kerstavond. mevr. ds. Sandra van Zeeland - van Cassel
DESCRIPTION:
URL:https://elthetokerk.nl/event/kerkdienst-kerstavond-mevr-ds-sandra-van-zeeland-van-cassel/
LOCATION:Elthetokerk\, Blokweerweg 22\, Alblasserdam\, Zuid-Holland\, 2953 AB\, Netherlands
END:VEVENT
BEGIN:VEVENT
DTSTART;TZID=Europe/Amsterdam:20241222T100000
DTEND;TZID=Europe/Amsterdam:20241222T110000
DTSTAMP:20260420T081753
CREATED:20241119T082618Z
LAST-MODIFIED:20241119T082618Z
UID:6197-1734861600-1734865200@elthetokerk.nl
SUMMARY:Kerkdienst. mevr. ds. Anja van Geerenstein
DESCRIPTION:
URL:https://elthetokerk.nl/event/kerkdienst-mevr-ds-anja-van-geerenstein/
LOCATION:Elthetokerk\, Blokweerweg 22\, Alblasserdam\, Zuid-Holland\, 2953 AB\, Netherlands
END:VEVENT
BEGIN:VEVENT
DTSTART;TZID=Europe/Amsterdam:20241215T100000
DTEND;TZID=Europe/Amsterdam:20241215T110000
DTSTAMP:20260420T081753
CREATED:20241119T082426Z
LAST-MODIFIED:20241119T082426Z
UID:6195-1734256800-1734260400@elthetokerk.nl
SUMMARY:Kerkdienst. drs. Herman de Boer
DESCRIPTION:
URL:https://elthetokerk.nl/event/kerkdienst-drs-herman-de-boer/
LOCATION:Elthetokerk\, Blokweerweg 22\, Alblasserdam\, Zuid-Holland\, 2953 AB\, Netherlands
END:VEVENT
BEGIN:VEVENT
DTSTART;TZID=Europe/Amsterdam:20241211T153000
DTEND;TZID=Europe/Amsterdam:20241211T170000
DTSTAMP:20260420T081753
CREATED:20241119T083913Z
LAST-MODIFIED:20241119T083913Z
UID:6203-1733931000-1733936400@elthetokerk.nl
SUMMARY:Koffieochtend
DESCRIPTION:
URL:https://elthetokerk.nl/event/koffieochtend-6/
LOCATION:Elthetokerk\, Blokweerweg 22\, Alblasserdam\, Zuid-Holland\, 2953 AB\, Netherlands
END:VEVENT
BEGIN:VEVENT
DTSTART;TZID=Europe/Amsterdam:20241208T100000
DTEND;TZID=Europe/Amsterdam:20241208T110000
DTSTAMP:20260420T081753
CREATED:20241119T082229Z
LAST-MODIFIED:20241119T082229Z
UID:6192-1733652000-1733655600@elthetokerk.nl
SUMMARY:Kerkdienst. mevr. ds. Sandra van Zeeland - van Cassel
DESCRIPTION:
URL:https://elthetokerk.nl/event/kerkdienst-mevr-ds-sandra-van-zeeland-van-cassel/
LOCATION:Elthetokerk\, Blokweerweg 22\, Alblasserdam\, Zuid-Holland\, 2953 AB\, Netherlands
END:VEVENT
BEGIN:VEVENT
DTSTART;TZID=Europe/Amsterdam:20241206T140000
DTEND;TZID=Europe/Amsterdam:20241206T180000
DTSTAMP:20260420T081753
CREATED:20241126T142138Z
LAST-MODIFIED:20241126T142138Z
UID:6227-1733493600-1733508000@elthetokerk.nl
SUMMARY:Kerstmarkt
DESCRIPTION:
URL:https://elthetokerk.nl/event/kerstmarkt/
LOCATION:Elthetokerk\, Blokweerweg 22\, Alblasserdam\, Zuid-Holland\, 2953 AB\, Netherlands
ORGANIZER;CN="Dini Resseler":MAILTO:d.resseler-vink@hccnet.nl
END:VEVENT
BEGIN:VEVENT
DTSTART;TZID=Europe/Amsterdam:20241201T100000
DTEND;TZID=Europe/Amsterdam:20241201T110000
DTSTAMP:20260420T081753
CREATED:20241119T082045Z
LAST-MODIFIED:20241119T082045Z
UID:6190-1733047200-1733050800@elthetokerk.nl
SUMMARY:Kerkdienst mevr. ds. M.Kwant
DESCRIPTION:
URL:https://elthetokerk.nl/event/kerkdienst-mevr-ds-m-kwant-2/
LOCATION:Elthetokerk\, Blokweerweg 22\, Alblasserdam\, Zuid-Holland\, 2953 AB\, Netherlands
END:VEVENT
BEGIN:VEVENT
DTSTART;TZID=Europe/Amsterdam:20241129T143000
DTEND;TZID=Europe/Amsterdam:20241129T170000
DTSTAMP:20260420T081753
CREATED:20241009T072411Z
LAST-MODIFIED:20241009T072411Z
UID:6069-1732890600-1732899600@elthetokerk.nl
SUMMARY:Maandafsluiting met koffie\, thee en een praatje.
DESCRIPTION:
URL:https://elthetokerk.nl/event/maandafsluiting-met-koffie-thee-en-een-praatje-2/
LOCATION:Zuid-Holland
END:VEVENT
BEGIN:VEVENT
DTSTART;TZID=Europe/Amsterdam:20241124T100000
DTEND;TZID=Europe/Amsterdam:20241124T110000
DTSTAMP:20260420T081753
CREATED:20241031T214553Z
LAST-MODIFIED:20241120T120534Z
UID:6118-1732442400-1732446000@elthetokerk.nl
SUMMARY:Kerkdienst. mw. M.Pieterse
DESCRIPTION:
URL:https://elthetokerk.nl/event/kerkdienst-ds-mw-a-lenselink/
LOCATION:Elthetokerk\, Blokweerweg 22\, Alblasserdam\, Zuid-Holland\, 2953 AB\, Netherlands
END:VEVENT
BEGIN:VEVENT
DTSTART;TZID=Europe/Amsterdam:20241118T200000
DTEND;TZID=Europe/Amsterdam:20241118T213000
DTSTAMP:20260420T081753
CREATED:20240531T083505Z
LAST-MODIFIED:20240531T083606Z
UID:5920-1731960000-1731965400@elthetokerk.nl
SUMMARY:Tijdnoo(d)t
DESCRIPTION:
URL:https://elthetokerk.nl/event/tijdnoodt/
LOCATION:Elthetokerk\, Blokweerweg 22\, Alblasserdam\, Zuid-Holland\, 2953 AB\, Netherlands
END:VEVENT
BEGIN:VEVENT
DTSTART;TZID=Europe/Amsterdam:20241117T100000
DTEND;TZID=Europe/Amsterdam:20241117T110000
DTSTAMP:20260420T081753
CREATED:20241029T084910Z
LAST-MODIFIED:20241031T214243Z
UID:6108-1731837600-1731841200@elthetokerk.nl
SUMMARY:Gedachtenisdienst. mw. ds. Sandra van Zeeland
DESCRIPTION:
URL:https://elthetokerk.nl/event/kerkdienst-dhr-s-c-de-jong-2/
LOCATION:Elthetokerk\, Blokweerweg 22\, Alblasserdam\, Zuid-Holland\, 2953 AB\, Netherlands
END:VEVENT
BEGIN:VEVENT
DTSTART;TZID=Europe/Amsterdam:20241113T100000
DTEND;TZID=Europe/Amsterdam:20241113T120000
DTSTAMP:20260420T081753
CREATED:20241009T072247Z
LAST-MODIFIED:20241009T072247Z
UID:6067-1731492000-1731499200@elthetokerk.nl
SUMMARY:Koffieochtend
DESCRIPTION:
URL:https://elthetokerk.nl/event/koffieochtend-5/
LOCATION:Elthetokerk\, Blokweerweg 22\, Alblasserdam\, Zuid-Holland\, 2953 AB\, Netherlands
END:VEVENT
BEGIN:VEVENT
DTSTART;TZID=Europe/Amsterdam:20241110T100000
DTEND;TZID=Europe/Amsterdam:20241110T110000
DTSTAMP:20260420T081753
CREATED:20241029T084509Z
LAST-MODIFIED:20241029T084509Z
UID:6103-1731232800-1731236400@elthetokerk.nl
SUMMARY:Kerkdienst. Dhr. G.Barendrecht.
DESCRIPTION:
URL:https://elthetokerk.nl/event/kerkdienst-dhr-g-barendrecht-4/
LOCATION:Elthetokerk\, Blokweerweg 22\, Alblasserdam\, Zuid-Holland\, 2953 AB\, Netherlands
END:VEVENT
BEGIN:VEVENT
DTSTART;TZID=Europe/Amsterdam:20241103T100000
DTEND;TZID=Europe/Amsterdam:20241103T110000
DTSTAMP:20260420T081753
CREATED:20241029T084238Z
LAST-MODIFIED:20241029T084238Z
UID:6101-1730628000-1730631600@elthetokerk.nl
SUMMARY:Kerkdienst mw. ds. Annemike v/d Meide
DESCRIPTION:
URL:https://elthetokerk.nl/event/kerkdienst-mw-ds-annemike-v-d-meide/
LOCATION:Elthetokerk\, Blokweerweg 22\, Alblasserdam\, Zuid-Holland\, 2953 AB\, Netherlands
END:VEVENT
BEGIN:VEVENT
DTSTART;TZID=Europe/Amsterdam:20241027T100000
DTEND;TZID=Europe/Amsterdam:20241027T110000
DTSTAMP:20260420T081753
CREATED:20241009T071339Z
LAST-MODIFIED:20241009T071754Z
UID:6062-1730023200-1730026800@elthetokerk.nl
SUMMARY:Kerkdienst  mevr. Pieterse.
DESCRIPTION:
URL:https://elthetokerk.nl/event/kerkdienst-mevr-pieterse/
LOCATION:Elthetokerk\, Blokweerweg 22\, Alblasserdam\, Zuid-Holland\, 2953 AB\, Netherlands
END:VEVENT
BEGIN:VEVENT
DTSTART;TZID=Europe/Amsterdam:20241021T200000
DTEND;TZID=Europe/Amsterdam:20241021T213000
DTSTAMP:20260420T081753
CREATED:20240531T084034Z
LAST-MODIFIED:20240531T084034Z
UID:5924-1729540800-1729546200@elthetokerk.nl
SUMMARY:Tijdnoo(d)t
DESCRIPTION:
URL:https://elthetokerk.nl/event/tijdnoodt-2/
LOCATION:Elthetokerk\, Blokweerweg 22\, Alblasserdam\, Zuid-Holland\, 2953 AB\, Netherlands
END:VEVENT
END:VCALENDAR