BEGIN:VCALENDAR
VERSION:2.0
PRODID:-//Elthetokerk Alblasserdam VVP-PKN - ECPv6.15.20//NONSGML v1.0//EN
CALSCALE:GREGORIAN
METHOD:PUBLISH
X-WR-CALNAME:Elthetokerk Alblasserdam VVP-PKN
X-ORIGINAL-URL:https://elthetokerk.nl
X-WR-CALDESC:Evenementen voor Elthetokerk Alblasserdam VVP-PKN
REFRESH-INTERVAL;VALUE=DURATION:PT1H
X-Robots-Tag:noindex
X-PUBLISHED-TTL:PT1H
BEGIN:VTIMEZONE
TZID:Europe/Amsterdam
BEGIN:DAYLIGHT
TZOFFSETFROM:+0100
TZOFFSETTO:+0200
TZNAME:CEST
DTSTART:20250330T010000
END:DAYLIGHT
BEGIN:STANDARD
TZOFFSETFROM:+0200
TZOFFSETTO:+0100
TZNAME:CET
DTSTART:20251026T010000
END:STANDARD
BEGIN:DAYLIGHT
TZOFFSETFROM:+0100
TZOFFSETTO:+0200
TZNAME:CEST
DTSTART:20260329T010000
END:DAYLIGHT
BEGIN:STANDARD
TZOFFSETFROM:+0200
TZOFFSETTO:+0100
TZNAME:CET
DTSTART:20261025T010000
END:STANDARD
BEGIN:DAYLIGHT
TZOFFSETFROM:+0100
TZOFFSETTO:+0200
TZNAME:CEST
DTSTART:20270328T010000
END:DAYLIGHT
BEGIN:STANDARD
TZOFFSETFROM:+0200
TZOFFSETTO:+0100
TZNAME:CET
DTSTART:20271031T010000
END:STANDARD
END:VTIMEZONE
BEGIN:VEVENT
DTSTART;TZID=Europe/Amsterdam:20260719T100000
DTEND;TZID=Europe/Amsterdam:20260719T110000
DTSTAMP:20260420T024614
CREATED:20260216T153138Z
LAST-MODIFIED:20260216T153138Z
UID:7334-1784455200-1784458800@elthetokerk.nl
SUMMARY:Kerkdienst: Mw.The Verspui.
DESCRIPTION:
URL:https://elthetokerk.nl/event/kerkdienst-mw-the-verspui/
LOCATION:Elthetokerk\, Blokweerweg 22\, Alblasserdam\, Zuid-Holland\, 2953 AB\, Netherlands
END:VEVENT
BEGIN:VEVENT
DTSTART;TZID=Europe/Amsterdam:20260731T153000
DTEND;TZID=Europe/Amsterdam:20260731T170000
DTSTAMP:20260420T024614
CREATED:20260214T101501Z
LAST-MODIFIED:20260214T101501Z
UID:7282-1785511800-1785517200@elthetokerk.nl
SUMMARY:Maandafsluiting met koffie\, thee en een praatje.
DESCRIPTION:
URL:https://elthetokerk.nl/event/maandafsluiting-met-koffie-thee-en-een-praatje-16/
LOCATION:Elthetokerk\, Blokweerweg 22\, Alblasserdam\, Zuid-Holland\, 2953 AB\, Netherlands
END:VEVENT
BEGIN:VEVENT
DTSTART;TZID=Europe/Amsterdam:20260812T100000
DTEND;TZID=Europe/Amsterdam:20260812T120000
DTSTAMP:20260420T024614
CREATED:20260214T100314Z
LAST-MODIFIED:20260214T100314Z
UID:7263-1786528800-1786536000@elthetokerk.nl
SUMMARY:Koffieochtend
DESCRIPTION:
URL:https://elthetokerk.nl/event/koffieochtend-23/
LOCATION:Elthetokerk\, Blokweerweg 22\, Alblasserdam\, Zuid-Holland\, 2953 AB\, Netherlands
END:VEVENT
BEGIN:VEVENT
DTSTART;TZID=Europe/Amsterdam:20260828T153000
DTEND;TZID=Europe/Amsterdam:20260828T170000
DTSTAMP:20260420T024614
CREATED:20260214T101551Z
LAST-MODIFIED:20260214T101551Z
UID:7284-1787931000-1787936400@elthetokerk.nl
SUMMARY:Maandafsluiting met koffie\, thee en een praatje.
DESCRIPTION:
URL:https://elthetokerk.nl/event/maandafsluiting-met-koffie-thee-en-een-praatje-17/
LOCATION:Elthetokerk\, Blokweerweg 22\, Alblasserdam\, Zuid-Holland\, 2953 AB\, Netherlands
END:VEVENT
BEGIN:VEVENT
DTSTART;TZID=Europe/Amsterdam:20260909T100000
DTEND;TZID=Europe/Amsterdam:20260909T120000
DTSTAMP:20260420T024614
CREATED:20260214T100407Z
LAST-MODIFIED:20260214T100407Z
UID:7265-1788948000-1788955200@elthetokerk.nl
SUMMARY:Koffieochtend
DESCRIPTION:
URL:https://elthetokerk.nl/event/koffieochtend-24/
LOCATION:Elthetokerk\, Blokweerweg 22\, Alblasserdam\, Zuid-Holland\, 2953 AB\, Netherlands
END:VEVENT
BEGIN:VEVENT
DTSTART;TZID=Europe/Amsterdam:20260925T153000
DTEND;TZID=Europe/Amsterdam:20260925T170000
DTSTAMP:20260420T024614
CREATED:20260214T101639Z
LAST-MODIFIED:20260214T101639Z
UID:7286-1790350200-1790355600@elthetokerk.nl
SUMMARY:Maandafsluiting met koffie\, thee en een praatje.
DESCRIPTION:
URL:https://elthetokerk.nl/event/maandafsluiting-met-koffie-thee-en-een-praatje-18/
LOCATION:Elthetokerk\, Blokweerweg 22\, Alblasserdam\, Zuid-Holland\, 2953 AB\, Netherlands
END:VEVENT
BEGIN:VEVENT
DTSTART;TZID=Europe/Amsterdam:20261007T100000
DTEND;TZID=Europe/Amsterdam:20261007T120000
DTSTAMP:20260420T024614
CREATED:20260214T100506Z
LAST-MODIFIED:20260214T100506Z
UID:7267-1791367200-1791374400@elthetokerk.nl
SUMMARY:Koffieochtend
DESCRIPTION:
URL:https://elthetokerk.nl/event/koffieochtend-25/
LOCATION:Elthetokerk\, Blokweerweg 22\, Alblasserdam\, Zuid-Holland\, 2953 AB\, Netherlands
END:VEVENT
BEGIN:VEVENT
DTSTART;TZID=Europe/Amsterdam:20261030T153000
DTEND;TZID=Europe/Amsterdam:20261030T170000
DTSTAMP:20260420T024614
CREATED:20260214T101729Z
LAST-MODIFIED:20260214T101729Z
UID:7288-1793374200-1793379600@elthetokerk.nl
SUMMARY:Maandafsluiting met koffie\, thee en een praatje.
DESCRIPTION:
URL:https://elthetokerk.nl/event/maandafsluiting-met-koffie-thee-en-een-praatje-19/
LOCATION:Elthetokerk\, Blokweerweg 22\, Alblasserdam\, Zuid-Holland\, 2953 AB\, Netherlands
END:VEVENT
BEGIN:VEVENT
DTSTART;TZID=Europe/Amsterdam:20261111T100000
DTEND;TZID=Europe/Amsterdam:20261111T120000
DTSTAMP:20260420T024614
CREATED:20260214T100606Z
LAST-MODIFIED:20260214T100606Z
UID:7269-1794391200-1794398400@elthetokerk.nl
SUMMARY:Koffieochtend
DESCRIPTION:
URL:https://elthetokerk.nl/event/koffieochtend-26/
LOCATION:Elthetokerk\, Blokweerweg 22\, Alblasserdam\, Zuid-Holland\, 2953 AB\, Netherlands
END:VEVENT
BEGIN:VEVENT
DTSTART;TZID=Europe/Amsterdam:20261127T153000
DTEND;TZID=Europe/Amsterdam:20261127T170000
DTSTAMP:20260420T024614
CREATED:20260214T101906Z
LAST-MODIFIED:20260214T101906Z
UID:7290-1795793400-1795798800@elthetokerk.nl
SUMMARY:Maandafsluiting met koffie\, thee en een praatje.
DESCRIPTION:
URL:https://elthetokerk.nl/event/maandafsluiting-met-koffie-thee-en-een-praatje-20/
LOCATION:Elthetokerk\, Blokweerweg 22\, Alblasserdam\, Zuid-Holland\, 2953 AB\, Netherlands
END:VEVENT
BEGIN:VEVENT
DTSTART;TZID=Europe/Amsterdam:20261209T100000
DTEND;TZID=Europe/Amsterdam:20261209T120000
DTSTAMP:20260420T024614
CREATED:20260214T100738Z
LAST-MODIFIED:20260214T100738Z
UID:7271-1796810400-1796817600@elthetokerk.nl
SUMMARY:Koffieochtend
DESCRIPTION:
URL:https://elthetokerk.nl/event/koffieochtend-27/
LOCATION:Elthetokerk\, Blokweerweg 22\, Alblasserdam\, Zuid-Holland\, 2953 AB\, Netherlands
END:VEVENT
END:VCALENDAR