BEGIN:VCALENDAR
VERSION:2.0
PRODID:-//Elthetokerk Alblasserdam VVP-PKN - ECPv6.15.20//NONSGML v1.0//EN
CALSCALE:GREGORIAN
METHOD:PUBLISH
X-WR-CALNAME:Elthetokerk Alblasserdam VVP-PKN
X-ORIGINAL-URL:https://elthetokerk.nl
X-WR-CALDESC:Evenementen voor Elthetokerk Alblasserdam VVP-PKN
REFRESH-INTERVAL;VALUE=DURATION:PT1H
X-Robots-Tag:noindex
X-PUBLISHED-TTL:PT1H
BEGIN:VTIMEZONE
TZID:Europe/Amsterdam
BEGIN:DAYLIGHT
TZOFFSETFROM:+0100
TZOFFSETTO:+0200
TZNAME:CEST
DTSTART:20240331T010000
END:DAYLIGHT
BEGIN:STANDARD
TZOFFSETFROM:+0200
TZOFFSETTO:+0100
TZNAME:CET
DTSTART:20241027T010000
END:STANDARD
BEGIN:DAYLIGHT
TZOFFSETFROM:+0100
TZOFFSETTO:+0200
TZNAME:CEST
DTSTART:20250330T010000
END:DAYLIGHT
BEGIN:STANDARD
TZOFFSETFROM:+0200
TZOFFSETTO:+0100
TZNAME:CET
DTSTART:20251026T010000
END:STANDARD
BEGIN:DAYLIGHT
TZOFFSETFROM:+0100
TZOFFSETTO:+0200
TZNAME:CEST
DTSTART:20260329T010000
END:DAYLIGHT
BEGIN:STANDARD
TZOFFSETFROM:+0200
TZOFFSETTO:+0100
TZNAME:CET
DTSTART:20261025T010000
END:STANDARD
BEGIN:DAYLIGHT
TZOFFSETFROM:+0100
TZOFFSETTO:+0200
TZNAME:CEST
DTSTART:20270328T010000
END:DAYLIGHT
BEGIN:STANDARD
TZOFFSETFROM:+0200
TZOFFSETTO:+0100
TZNAME:CET
DTSTART:20271031T010000
END:STANDARD
END:VTIMEZONE
BEGIN:VEVENT
DTSTART;TZID=Europe/Amsterdam:20260111T100000
DTEND;TZID=Europe/Amsterdam:20260111T100000
DTSTAMP:20260420T042629
CREATED:20260108T135226Z
LAST-MODIFIED:20260108T135226Z
UID:7124-1768125600-1768125600@elthetokerk.nl
SUMMARY:GEEN DIENST.
DESCRIPTION:
URL:https://elthetokerk.nl/event/geen-dienst/
LOCATION:Elthetokerk\, Blokweerweg 22\, Alblasserdam\, Zuid-Holland\, 2953 AB\, Netherlands
END:VEVENT
BEGIN:VEVENT
DTSTART;TZID=Europe/Amsterdam:20260104T100000
DTEND;TZID=Europe/Amsterdam:20260104T110000
DTSTAMP:20260420T042629
CREATED:20251224T080547Z
LAST-MODIFIED:20251224T080547Z
UID:7077-1767520800-1767524400@elthetokerk.nl
SUMMARY:Kerkdienst\, Sandra van Zeeland- van Cassel
DESCRIPTION:Nieuwjaarsontmoeting
URL:https://elthetokerk.nl/event/kerkdienst-sandra-van-zeeland-van-cassel/
LOCATION:Elthetokerk\, Blokweerweg 22\, Alblasserdam\, Zuid-Holland\, 2953 AB\, Netherlands
END:VEVENT
BEGIN:VEVENT
DTSTART;TZID=Europe/Amsterdam:20251228T100000
DTEND;TZID=Europe/Amsterdam:20251228T110000
DTSTAMP:20260420T042629
CREATED:20251226T083049Z
LAST-MODIFIED:20251226T083049Z
UID:7114-1766916000-1766919600@elthetokerk.nl
SUMMARY:Kerstzangdienst
DESCRIPTION:
URL:https://elthetokerk.nl/event/kerstzangdienst/
LOCATION:Elthetokerk\, Blokweerweg 22\, Alblasserdam\, Zuid-Holland\, 2953 AB\, Netherlands
END:VEVENT
BEGIN:VEVENT
DTSTART;TZID=Europe/Amsterdam:20251225T100000
DTEND;TZID=Europe/Amsterdam:20251225T110000
DTSTAMP:20260420T042629
CREATED:20250506T092303Z
LAST-MODIFIED:20250506T092303Z
UID:6743-1766656800-1766660400@elthetokerk.nl
SUMMARY:Kerkdienst\, mevr. ds. S van Zeeland-van Cassel.
DESCRIPTION:Eerste kerstdag.
URL:https://elthetokerk.nl/event/kerkdienst-mevr-ds-s-van-zeeland-van-cassel-7/
LOCATION:Elthetokerk\, Blokweerweg 22\, Alblasserdam\, Zuid-Holland\, 2953 AB\, Netherlands
END:VEVENT
BEGIN:VEVENT
DTSTART;TZID=Europe/Amsterdam:20251224T220000
DTEND;TZID=Europe/Amsterdam:20251224T230000
DTSTAMP:20260420T042629
CREATED:20250506T092114Z
LAST-MODIFIED:20251224T080151Z
UID:6741-1766613600-1766617200@elthetokerk.nl
SUMMARY:Kerkdienst\, Annmike v/d Meiden en Marinus den Oudsten
DESCRIPTION:Kerstavond in de ELTHETOKERK \n  \nOp het snijvlak van geloof en cultuur biedt \nde Elthetokerk op kerstavond een bijzondere vertelling aan: ‘A Christmas Carol’. \nWees welkom om iets te ervaren van het verhaal van het goede doen in de wereld. En wat er \nkan gebeuren als je menselijkheid en rechtvaardigheid uit het oog gaat verliezen… \nLaat je meevoeren door het bekende kerstverhaal van de geesten die de weinig sympathieke \nEbenezer Scrooge in de kerstnacht bezoeken en hem zijn slaap onthouden. \nNaast deze overbekende kerstvertelling zingen we een aantal prachtige \nkerstliederen. Kom luisteren! En voor wie wil: ook meezingen. \nA Christmas Carol\, uitgevoerd door Annemike v.d. Meiden en Marinus den Oudsten. We \nnodigen u en jou uit om deze kerstavond te beleven in de Elthetokerk\, Blokweerweg 22 in \nAlblasserdam. Deur open om 21.30 uur\, aanvang van het programma om 22.00 uur.
URL:https://elthetokerk.nl/event/kerkdienst-mevr-ds-s-van-zeeland-van-cassel-6/
LOCATION:Elthetokerk\, Blokweerweg 22\, Alblasserdam\, Zuid-Holland\, 2953 AB\, Netherlands
END:VEVENT
BEGIN:VEVENT
DTSTART;TZID=Europe/Amsterdam:20251221T100000
DTEND;TZID=Europe/Amsterdam:20251221T110000
DTSTAMP:20260420T042629
CREATED:20250506T091917Z
LAST-MODIFIED:20251216T180209Z
UID:6739-1766311200-1766314800@elthetokerk.nl
SUMMARY:Kerkdienst\, dhr. ds. H. Hartogsveld.
DESCRIPTION:Vierde advent.
URL:https://elthetokerk.nl/event/kerkdienst-dhr-ds-h-hartogsveld-2/
LOCATION:Elthetokerk\, Blokweerweg 22\, Alblasserdam\, Zuid-Holland\, 2953 AB\, Netherlands
END:VEVENT
BEGIN:VEVENT
DTSTART;TZID=Europe/Amsterdam:20251219T153000
DTEND;TZID=Europe/Amsterdam:20251219T170000
DTSTAMP:20260420T042629
CREATED:20251011T123521Z
LAST-MODIFIED:20251206T081417Z
UID:6937-1766158200-1766163600@elthetokerk.nl
SUMMARY:Maandafsluiting met koffie of thee en een praatje.
DESCRIPTION:
URL:https://elthetokerk.nl/event/maandafsluiting-met-koffie-of-thee-en-een-praatje-6/
LOCATION:Elthetokerk\, Blokweerweg 22\, Alblasserdam\, Zuid-Holland\, 2953 AB\, Netherlands
END:VEVENT
BEGIN:VEVENT
DTSTART;TZID=Europe/Amsterdam:20251214T100000
DTEND;TZID=Europe/Amsterdam:20251214T110000
DTSTAMP:20260420T042629
CREATED:20250506T091750Z
LAST-MODIFIED:20250506T091750Z
UID:6737-1765706400-1765710000@elthetokerk.nl
SUMMARY:Kerkdienst\, dhr.drs. H. de Boer.
DESCRIPTION:Derde advent.
URL:https://elthetokerk.nl/event/kerkdienst-dhr-drs-h-de-boer-2/
LOCATION:Elthetokerk\, Blokweerweg 22\, Alblasserdam\, Zuid-Holland\, 2953 AB\, Netherlands
END:VEVENT
BEGIN:VEVENT
DTSTART;TZID=Europe/Amsterdam:20251210T100000
DTEND;TZID=Europe/Amsterdam:20251210T120000
DTSTAMP:20260420T042629
CREATED:20250506T092407Z
LAST-MODIFIED:20250506T092407Z
UID:6745-1765360800-1765368000@elthetokerk.nl
SUMMARY:Koffieochtend.
DESCRIPTION:
URL:https://elthetokerk.nl/event/koffieochtend-17/
LOCATION:Elthetokerk\, Blokweerweg 22\, Alblasserdam\, Zuid-Holland\, 2953 AB\, Netherlands
END:VEVENT
BEGIN:VEVENT
DTSTART;TZID=Europe/Amsterdam:20251207T100000
DTEND;TZID=Europe/Amsterdam:20251207T110000
DTSTAMP:20260420T042629
CREATED:20250506T091609Z
LAST-MODIFIED:20250506T091609Z
UID:6735-1765101600-1765105200@elthetokerk.nl
SUMMARY:Kerkdienst. mevr.ds. S. van Zeeland-van Cassel.
DESCRIPTION:Tweede advent.
URL:https://elthetokerk.nl/event/kerkdienst-mevr-ds-s-van-zeeland-van-cassel-5/
LOCATION:Elthetokerk\, Blokweerweg 22\, Alblasserdam\, Zuid-Holland\, 2953 AB\, Netherlands
END:VEVENT
BEGIN:VEVENT
DTSTART;TZID=Europe/Amsterdam:20251130T100000
DTEND;TZID=Europe/Amsterdam:20251130T110000
DTSTAMP:20260420T042629
CREATED:20250506T091140Z
LAST-MODIFIED:20250506T091140Z
UID:6729-1764496800-1764500400@elthetokerk.nl
SUMMARY:Kerkdienst\, dhr.S.C. de Jong.
DESCRIPTION:Eerste advent.
URL:https://elthetokerk.nl/event/kerkdienst-dhr-s-c-de-jong-5/
LOCATION:Elthetokerk\, Blokweerweg 22\, Alblasserdam\, Zuid-Holland\, 2953 AB\, Netherlands
END:VEVENT
BEGIN:VEVENT
DTSTART;TZID=Europe/Amsterdam:20251128T153000
DTEND;TZID=Europe/Amsterdam:20251128T170000
DTSTAMP:20260420T042629
CREATED:20251011T123349Z
LAST-MODIFIED:20251011T123349Z
UID:6935-1764343800-1764349200@elthetokerk.nl
SUMMARY:Maandafsluiting met koffie of thee en een praatje
DESCRIPTION:
URL:https://elthetokerk.nl/event/maandafsluiting-met-koffie-of-thee-en-een-praatje-5/
LOCATION:Elthetokerk\, Blokweerweg 22\, Alblasserdam\, Zuid-Holland\, 2953 AB\, Netherlands
END:VEVENT
BEGIN:VEVENT
DTSTART;TZID=Europe/Amsterdam:20251123T100000
DTEND;TZID=Europe/Amsterdam:20251123T110000
DTSTAMP:20260420T042629
CREATED:20250506T090956Z
LAST-MODIFIED:20250506T090956Z
UID:6727-1763892000-1763895600@elthetokerk.nl
SUMMARY:Kerkdienst\, mevr. ds. S. van Zeeland-van Cassel.
DESCRIPTION:Laatste zondag van het kerkelijk jaar.
URL:https://elthetokerk.nl/event/kerkdienst-mevr-ds-s-van-zeeland-van-cassel-4/
LOCATION:Elthetokerk\, Blokweerweg 22\, Alblasserdam\, Zuid-Holland\, 2953 AB\, Netherlands
END:VEVENT
BEGIN:VEVENT
DTSTART;TZID=Europe/Amsterdam:20251116T100000
DTEND;TZID=Europe/Amsterdam:20251116T110000
DTSTAMP:20260420T042629
CREATED:20250506T090733Z
LAST-MODIFIED:20250506T090733Z
UID:6725-1763287200-1763290800@elthetokerk.nl
SUMMARY:Kerkdienst\, mevr. Th. Verspui.
DESCRIPTION:
URL:https://elthetokerk.nl/event/kerkdienst-mevr-th-verspui-2/
LOCATION:Elthetokerk\, Blokweerweg 22\, Alblasserdam\, Zuid-Holland\, 2953 AB\, Netherlands
END:VEVENT
BEGIN:VEVENT
DTSTART;TZID=Europe/Amsterdam:20251112T100000
DTEND;TZID=Europe/Amsterdam:20251112T120000
DTSTAMP:20260420T042629
CREATED:20250506T091236Z
LAST-MODIFIED:20250506T091236Z
UID:6731-1762941600-1762948800@elthetokerk.nl
SUMMARY:Koffieochtend.
DESCRIPTION:
URL:https://elthetokerk.nl/event/koffieochtend-16/
LOCATION:Elthetokerk\, Blokweerweg 22\, Alblasserdam\, Zuid-Holland\, 2953 AB\, Netherlands
END:VEVENT
BEGIN:VEVENT
DTSTART;TZID=Europe/Amsterdam:20251109T100000
DTEND;TZID=Europe/Amsterdam:20251109T110000
DTSTAMP:20260420T042629
CREATED:20250506T090608Z
LAST-MODIFIED:20251031T080551Z
UID:6723-1762682400-1762686000@elthetokerk.nl
SUMMARY:Kerkdienst\, mevr. Nieuwenhuis-den Dulk
DESCRIPTION:
URL:https://elthetokerk.nl/event/kerkdienst-dhr-ds-j-f-klijnsma-3/
LOCATION:Elthetokerk\, Blokweerweg 22\, Alblasserdam\, Zuid-Holland\, 2953 AB\, Netherlands
END:VEVENT
BEGIN:VEVENT
DTSTART;TZID=Europe/Amsterdam:20251102T100000
DTEND;TZID=Europe/Amsterdam:20251102T110000
DTSTAMP:20260420T042629
CREATED:20250506T090408Z
LAST-MODIFIED:20250506T090408Z
UID:6721-1762077600-1762081200@elthetokerk.nl
SUMMARY:Kerkdienst. dhr. Z. Albada.
DESCRIPTION:
URL:https://elthetokerk.nl/event/kerkdienst-dhr-z-albada/
LOCATION:Elthetokerk\, Blokweerweg 22\, Alblasserdam\, Zuid-Holland\, 2953 AB\, Netherlands
END:VEVENT
BEGIN:VEVENT
DTSTART;TZID=Europe/Amsterdam:20251031T153000
DTEND;TZID=Europe/Amsterdam:20251031T170000
DTSTAMP:20260420T042629
CREATED:20251011T122312Z
LAST-MODIFIED:20251011T122312Z
UID:6927-1761924600-1761930000@elthetokerk.nl
SUMMARY:Maandafsluiting met koffie of thee en een praatje
DESCRIPTION:
URL:https://elthetokerk.nl/event/maandafsluiting-met-koffie-of-thee-en-een-praatje-3/
LOCATION:Elthetokerk\, Blokweerweg 22\, Alblasserdam\, Zuid-Holland\, 2953 AB\, Netherlands
END:VEVENT
BEGIN:VEVENT
DTSTART;TZID=Europe/Amsterdam:20251026T100000
DTEND;TZID=Europe/Amsterdam:20251026T110000
DTSTAMP:20260420T042629
CREATED:20250506T085951Z
LAST-MODIFIED:20250506T085951Z
UID:6715-1761472800-1761476400@elthetokerk.nl
SUMMARY:Kerkdienst\, dhr. G. Barendrecht.
DESCRIPTION:
URL:https://elthetokerk.nl/event/kerkdienst-dhr-g-barendrecht-8/
LOCATION:Elthetokerk\, Blokweerweg 22\, Alblasserdam\, Zuid-Holland\, 2953 AB\, Netherlands
END:VEVENT
BEGIN:VEVENT
DTSTART;TZID=Europe/Amsterdam:20251019T100000
DTEND;TZID=Europe/Amsterdam:20251019T110000
DTSTAMP:20260420T042629
CREATED:20250506T085851Z
LAST-MODIFIED:20250506T094111Z
UID:6713-1760868000-1760871600@elthetokerk.nl
SUMMARY:Kerkdienst\, mevr. ds. S. van Zeeland-van Cassel.
DESCRIPTION:
URL:https://elthetokerk.nl/event/kerkdienst-mevr-ds-s-van-zeelland-van-cassel/
LOCATION:Elthetokerk\, Blokweerweg 22\, Alblasserdam\, Zuid-Holland\, 2953 AB\, Netherlands
END:VEVENT
BEGIN:VEVENT
DTSTART;TZID=Europe/Amsterdam:20251012T100000
DTEND;TZID=Europe/Amsterdam:20251012T110000
DTSTAMP:20260420T042629
CREATED:20250506T085558Z
LAST-MODIFIED:20250506T085558Z
UID:6709-1760263200-1760266800@elthetokerk.nl
SUMMARY:Kerkdienst\, dhr. Machiel Lock.
DESCRIPTION:
URL:https://elthetokerk.nl/event/kerkdienst-dhr-machiel-lock/
LOCATION:Elthetokerk\, Blokweerweg 22\, Alblasserdam\, Zuid-Holland\, 2953 AB\, Netherlands
END:VEVENT
BEGIN:VEVENT
DTSTART;TZID=Europe/Amsterdam:20251008T100000
DTEND;TZID=Europe/Amsterdam:20251008T120000
DTSTAMP:20260420T042629
CREATED:20250506T090102Z
LAST-MODIFIED:20250506T090102Z
UID:6717-1759917600-1759924800@elthetokerk.nl
SUMMARY:Koffieochtend.
DESCRIPTION:
URL:https://elthetokerk.nl/event/koffieochtend-15/
LOCATION:Elthetokerk\, Blokweerweg 22\, Alblasserdam\, Zuid-Holland\, 2953 AB\, Netherlands
END:VEVENT
BEGIN:VEVENT
DTSTART;TZID=Europe/Amsterdam:20251005T100000
DTEND;TZID=Europe/Amsterdam:20251005T110000
DTSTAMP:20260420T042629
CREATED:20250506T085443Z
LAST-MODIFIED:20250506T085443Z
UID:6707-1759658400-1759662000@elthetokerk.nl
SUMMARY:Kerkdienst\, mevr. ds. S. van Zeeland-van Cassel.
DESCRIPTION:
URL:https://elthetokerk.nl/event/kerkdienst-mevr-ds-s-van-zeeland-van-cassel-2/
LOCATION:Elthetokerk\, Blokweerweg 22\, Alblasserdam\, Zuid-Holland\, 2953 AB\, Netherlands
END:VEVENT
BEGIN:VEVENT
DTSTART;TZID=Europe/Amsterdam:20250928T100000
DTEND;TZID=Europe/Amsterdam:20250928T110000
DTSTAMP:20260420T042629
CREATED:20250506T082229Z
LAST-MODIFIED:20250506T082229Z
UID:6692-1759053600-1759057200@elthetokerk.nl
SUMMARY:Kerkdienst dhr. ds H.Hartogsveld.
DESCRIPTION:
URL:https://elthetokerk.nl/event/kerkdienst-dhr-ds-h-hartogsveld/
LOCATION:Elthetokerk\, Blokweerweg 22\, Alblasserdam\, Zuid-Holland\, 2953 AB\, Netherlands
END:VEVENT
BEGIN:VEVENT
DTSTART;TZID=Europe/Amsterdam:20250926T153000
DTEND;TZID=Europe/Amsterdam:20250926T170000
DTSTAMP:20260420T042629
CREATED:20250506T085134Z
LAST-MODIFIED:20250506T104409Z
UID:6705-1758900600-1758906000@elthetokerk.nl
SUMMARY:Maandafsluiting met koffie\, thee en een praatje.
DESCRIPTION:
URL:https://elthetokerk.nl/event/maandafsluiting-met-koffie-thee-en-een-praatje-10/
LOCATION:Elthetokerk\, Blokweerweg 22\, Alblasserdam\, Zuid-Holland\, 2953 AB\, Netherlands
END:VEVENT
BEGIN:VEVENT
DTSTART;TZID=Europe/Amsterdam:20250921T100000
DTEND;TZID=Europe/Amsterdam:20250921T153000
DTSTAMP:20260420T042629
CREATED:20250506T082056Z
LAST-MODIFIED:20250506T082056Z
UID:6690-1758448800-1758468600@elthetokerk.nl
SUMMARY:Viering 90 jarig bestaan VVP Alblasserdam. Elandienst\, tevens streekdag.
DESCRIPTION:We vieren het 90 jarig bestaan van de VVP! De dag begint met een optreden van Kees Posthumus en Juul Beerda.  Het thema is De Bijbel Gezongen. Vrolijk\, feestelijk en interactief. Na deze start is er koffie met wat lekkers\, daarna is er een goedverzorgde lunch\, Tijd genoeg dus om elkaar te ontmoeten.
URL:https://elthetokerk.nl/event/viering-90-jarig-bestaan-vvp-alblasserdam-elandienst-tevens-streekdag/
LOCATION:Elthetokerk\, Blokweerweg 22\, Alblasserdam\, Zuid-Holland\, 2953 AB\, Netherlands
END:VEVENT
BEGIN:VEVENT
DTSTART;TZID=Europe/Amsterdam:20250914T100000
DTEND;TZID=Europe/Amsterdam:20250914T110000
DTSTAMP:20260420T042629
CREATED:20250506T081056Z
LAST-MODIFIED:20250506T081056Z
UID:6688-1757844000-1757847600@elthetokerk.nl
SUMMARY:Kerkdienst mevr. ds. S.van Zeeland-van Cassel
DESCRIPTION:
URL:https://elthetokerk.nl/event/kerkdienst-mevr-ds-s-van-zeeland-van-cassel/
LOCATION:Elthetokerk\, Blokweerweg 22\, Alblasserdam\, Zuid-Holland\, 2953 AB\, Netherlands
END:VEVENT
BEGIN:VEVENT
DTSTART;TZID=Europe/Amsterdam:20250910T100000
DTEND;TZID=Europe/Amsterdam:20250910T120000
DTSTAMP:20260420T042629
CREATED:20250506T084951Z
LAST-MODIFIED:20250506T084951Z
UID:6703-1757498400-1757505600@elthetokerk.nl
SUMMARY:Koffieochtend
DESCRIPTION:
URL:https://elthetokerk.nl/event/koffieochtend-14/
LOCATION:Elthetokerk\, Blokweerweg 22\, Alblasserdam\, Zuid-Holland\, 2953 AB\, Netherlands
END:VEVENT
BEGIN:VEVENT
DTSTART;TZID=Europe/Amsterdam:20250907T100000
DTEND;TZID=Europe/Amsterdam:20250907T110000
DTSTAMP:20260420T042629
CREATED:20250506T080812Z
LAST-MODIFIED:20250506T093856Z
UID:6686-1757239200-1757242800@elthetokerk.nl
SUMMARY:Kerkdienst dhr. ds.  R. Philpp
DESCRIPTION:
URL:https://elthetokerk.nl/event/kerkdienst-dhr-ds-r-philpp/
LOCATION:Elthetokerk\, Blokweerweg 22\, Alblasserdam\, Zuid-Holland\, 2953 AB\, Netherlands
END:VEVENT
BEGIN:VEVENT
DTSTART;TZID=Europe/Amsterdam:20250831T100000
DTEND;TZID=Europe/Amsterdam:20250831T110000
DTSTAMP:20260420T042629
CREATED:20250416T081438Z
LAST-MODIFIED:20250416T081438Z
UID:6642-1756634400-1756638000@elthetokerk.nl
SUMMARY:Kerkdienst. mevr. ds. Hester Radstake.
DESCRIPTION:
URL:https://elthetokerk.nl/event/kerkdienst-mevr-ds-hester-radstake-2/
LOCATION:Elthetokerk\, Blokweerweg 22\, Alblasserdam\, Zuid-Holland\, 2953 AB\, Netherlands
END:VEVENT
END:VCALENDAR