BEGIN:VCALENDAR
VERSION:2.0
PRODID:-//Elthetokerk Alblasserdam VVP-PKN - ECPv6.15.20//NONSGML v1.0//EN
CALSCALE:GREGORIAN
METHOD:PUBLISH
X-ORIGINAL-URL:https://elthetokerk.nl
X-WR-CALDESC:Evenementen voor Elthetokerk Alblasserdam VVP-PKN
REFRESH-INTERVAL;VALUE=DURATION:PT1H
X-Robots-Tag:noindex
X-PUBLISHED-TTL:PT1H
BEGIN:VTIMEZONE
TZID:Europe/Amsterdam
BEGIN:DAYLIGHT
TZOFFSETFROM:+0100
TZOFFSETTO:+0200
TZNAME:CEST
DTSTART:20250330T010000
END:DAYLIGHT
BEGIN:STANDARD
TZOFFSETFROM:+0200
TZOFFSETTO:+0100
TZNAME:CET
DTSTART:20251026T010000
END:STANDARD
BEGIN:DAYLIGHT
TZOFFSETFROM:+0100
TZOFFSETTO:+0200
TZNAME:CEST
DTSTART:20260329T010000
END:DAYLIGHT
BEGIN:STANDARD
TZOFFSETFROM:+0200
TZOFFSETTO:+0100
TZNAME:CET
DTSTART:20261025T010000
END:STANDARD
BEGIN:DAYLIGHT
TZOFFSETFROM:+0100
TZOFFSETTO:+0200
TZNAME:CEST
DTSTART:20270328T010000
END:DAYLIGHT
BEGIN:STANDARD
TZOFFSETFROM:+0200
TZOFFSETTO:+0100
TZNAME:CET
DTSTART:20271031T010000
END:STANDARD
END:VTIMEZONE
BEGIN:VEVENT
DTSTART;TZID=Europe/Amsterdam:20260322T100000
DTEND;TZID=Europe/Amsterdam:20260322T110000
DTSTAMP:20260419T172327
CREATED:20251224T083626Z
LAST-MODIFIED:20260123T091340Z
UID:7107-1774173600-1774177200@elthetokerk.nl
SUMMARY:Kerkdienst. ds. Sandra van Zeeland - van Cassel
DESCRIPTION:Bevestiging / Herbevestiging ambtsdragers.
URL:https://elthetokerk.nl/event/kerkdienst-ds-sandra-van-zeeland-van-cassel-4/
LOCATION:Elthetokerk\, Blokweerweg 22\, Alblasserdam\, Zuid-Holland\, 2953 AB\, Netherlands
END:VEVENT
END:VCALENDAR